BEGIN:VCALENDAR
VERSION:2.0
PRODID:-//ChamberMaster//Event Calendar 2.0//EN
METHOD:PUBLISH
X-PUBLISHED-TTL:P3D
REFRESH-INTERVAL:P3D
CALSCALE:GREGORIAN
BEGIN:VEVENT
DTSTART:20200123T230000Z
DTEND:20200124T040000Z
X-MICROSOFT-CDO-ALLDAYEVENT:FALSE
SUMMARY:Grimes Chamber & Economic Development's Annual Dinner
DESCRIPTION:**SOLD OUT!!** Throwback! This years Annual Dinner and Awards Ceremony will take you back to your favorite decade.  Awards will be handed out to our Ambassador\, Business\, Citizen and Educator "Of the Year". If your business would like to donate a Silent Auction Item please contact the GCED office and let Kayla Bruns know. Please dress to your favorite decade. \n\n\n\nThank you to our many sponsors for making this event possible! \n\nBusiness of the Year Award Sponsor: Golden Openings \n\nSilver Sponsor: Black Hills Energy \n\n                          City State Bank \n\n                          Inspiring Dance \n\nEntertainment Sponsor: Athletico Physical Therapy \n\n                                        Timmins\, Jaconbsen & Strawhacker\, LLP \n\nCorporate Table Sponsor: Grimes Volunteer Support Services \n\n                                        VisionBank \n\n                                        Raccoon Valley Bank \n\n                                        City of Grimes \n\n                                        Bankers Trust \n\n                                        Charter Bank \n\nChampagne Sponsor: Raccoon Valley Bank \n\nDecoration Sponsor: TRIO Marketing |Branding |Advertising \n\n                                   Cooking by J \n\nRegistration Table Sponsor: INSPRO Insurance \n\nBar & Bistro Table Sponsor: Back to Health Chiropractic \n\nSilent Auction Sponsor: Grove & Platt Dental Associates \n\nSilent Auction Item Sponsor: Miller\, Fidler & Hinke Insurance \n\n                                               Godfather's Pizza \n\n                                                Letsch Law Firm
X-ALT-DESC;FMTTYPE=text/html:**SOLD OUT!!** Throwback! This years Annual Dinner and Awards Ceremony will take you back to your favorite decade. &nbsp\;Awards will be handed out to our Ambassador\, Business\, Citizen and Educator &quot\;Of the Year&quot\;. If your business would like to donate a Silent Auction Item please contact the GCED office and let Kayla Bruns know. Please dress to your favorite decade.&nbsp\;<br />\n<br />\nThank you to our many sponsors for making this event possible!&nbsp\;<br />\nBusiness of the Year Award Sponsor: Golden Openings&nbsp\;<br />\nSilver Sponsor: Black Hills Energy&nbsp\;<br />\n&nbsp\;&nbsp\;&nbsp\;&nbsp\;&nbsp\;&nbsp\;&nbsp\;&nbsp\;&nbsp\;&nbsp\;&nbsp\;&nbsp\;&nbsp\;&nbsp\;&nbsp\;&nbsp\;&nbsp\;&nbsp\;&nbsp\;&nbsp\;&nbsp\;&nbsp\;&nbsp\;&nbsp\;&nbsp\; City State Bank&nbsp\;<br />\n&nbsp\;&nbsp\;&nbsp\;&nbsp\;&nbsp\;&nbsp\;&nbsp\;&nbsp\;&nbsp\;&nbsp\;&nbsp\;&nbsp\;&nbsp\;&nbsp\;&nbsp\;&nbsp\;&nbsp\;&nbsp\;&nbsp\;&nbsp\;&nbsp\;&nbsp\;&nbsp\;&nbsp\;&nbsp\; Inspiring Dance&nbsp\;<br />\nEntertainment Sponsor: Athletico Physical Therapy&nbsp\;<br />\n&nbsp\;&nbsp\;&nbsp\;&nbsp\;&nbsp\;&nbsp\;&nbsp\;&nbsp\;&nbsp\;&nbsp\;&nbsp\;&nbsp\;&nbsp\;&nbsp\;&nbsp\;&nbsp\;&nbsp\;&nbsp\;&nbsp\;&nbsp\;&nbsp\;&nbsp\;&nbsp\;&nbsp\;&nbsp\;&nbsp\;&nbsp\;&nbsp\;&nbsp\;&nbsp\;&nbsp\;&nbsp\;&nbsp\;&nbsp\;&nbsp\;&nbsp\;&nbsp\; &nbsp\; Timmins\, Jaconbsen &amp\; Strawhacker\, LLP&nbsp\;<br />\nCorporate Table Sponsor: Grimes Volunteer Support Services&nbsp\;<br />\n&nbsp\;&nbsp\;&nbsp\;&nbsp\;&nbsp\;&nbsp\;&nbsp\;&nbsp\;&nbsp\;&nbsp\;&nbsp\;&nbsp\;&nbsp\;&nbsp\;&nbsp\;&nbsp\;&nbsp\;&nbsp\;&nbsp\;&nbsp\;&nbsp\;&nbsp\;&nbsp\;&nbsp\;&nbsp\;&nbsp\;&nbsp\;&nbsp\;&nbsp\;&nbsp\;&nbsp\;&nbsp\;&nbsp\;&nbsp\;&nbsp\;&nbsp\;&nbsp\;&nbsp\;&nbsp\;&nbsp\;VisionBank&nbsp\;<br />\n&nbsp\;&nbsp\;&nbsp\;&nbsp\;&nbsp\;&nbsp\;&nbsp\;&nbsp\;&nbsp\;&nbsp\;&nbsp\;&nbsp\;&nbsp\;&nbsp\;&nbsp\;&nbsp\;&nbsp\;&nbsp\;&nbsp\;&nbsp\;&nbsp\;&nbsp\;&nbsp\;&nbsp\;&nbsp\;&nbsp\;&nbsp\;&nbsp\;&nbsp\;&nbsp\;&nbsp\;&nbsp\;&nbsp\;&nbsp\;&nbsp\;&nbsp\;&nbsp\; &nbsp\; Raccoon Valley Bank&nbsp\;<br />\n&nbsp\;&nbsp\;&nbsp\;&nbsp\;&nbsp\;&nbsp\;&nbsp\;&nbsp\;&nbsp\;&nbsp\;&nbsp\;&nbsp\;&nbsp\;&nbsp\;&nbsp\;&nbsp\;&nbsp\;&nbsp\;&nbsp\;&nbsp\;&nbsp\;&nbsp\;&nbsp\;&nbsp\;&nbsp\;&nbsp\;&nbsp\;&nbsp\;&nbsp\;&nbsp\;&nbsp\;&nbsp\;&nbsp\;&nbsp\;&nbsp\;&nbsp\;&nbsp\; &nbsp\; City of Grimes&nbsp\;<br />\n&nbsp\;&nbsp\;&nbsp\;&nbsp\;&nbsp\;&nbsp\;&nbsp\;&nbsp\;&nbsp\;&nbsp\;&nbsp\;&nbsp\;&nbsp\;&nbsp\;&nbsp\;&nbsp\;&nbsp\;&nbsp\;&nbsp\;&nbsp\;&nbsp\;&nbsp\;&nbsp\;&nbsp\;&nbsp\;&nbsp\;&nbsp\;&nbsp\;&nbsp\;&nbsp\;&nbsp\;&nbsp\;&nbsp\;&nbsp\;&nbsp\;&nbsp\;&nbsp\;&nbsp\;&nbsp\;&nbsp\;Bankers Trust&nbsp\;<br />\n&nbsp\;&nbsp\;&nbsp\;&nbsp\;&nbsp\;&nbsp\;&nbsp\;&nbsp\;&nbsp\;&nbsp\;&nbsp\;&nbsp\;&nbsp\;&nbsp\;&nbsp\;&nbsp\;&nbsp\;&nbsp\;&nbsp\;&nbsp\;&nbsp\;&nbsp\;&nbsp\;&nbsp\;&nbsp\;&nbsp\;&nbsp\;&nbsp\;&nbsp\;&nbsp\;&nbsp\;&nbsp\;&nbsp\;&nbsp\;&nbsp\;&nbsp\;&nbsp\;&nbsp\;&nbsp\;&nbsp\;Charter Bank&nbsp\;<br />\nChampagne Sponsor: Raccoon Valley Bank&nbsp\;<br />\nDecoration Sponsor: TRIO Marketing |Branding |Advertising&nbsp\;<br />\n&nbsp\;&nbsp\;&nbsp\;&nbsp\;&nbsp\;&nbsp\;&nbsp\;&nbsp\;&nbsp\;&nbsp\;&nbsp\;&nbsp\;&nbsp\;&nbsp\;&nbsp\;&nbsp\;&nbsp\;&nbsp\;&nbsp\;&nbsp\;&nbsp\;&nbsp\;&nbsp\;&nbsp\;&nbsp\;&nbsp\;&nbsp\;&nbsp\;&nbsp\;&nbsp\;&nbsp\;&nbsp\;&nbsp\; &nbsp\;Cooking by J&nbsp\;<br />\nRegistration Table Sponsor: INSPRO Insurance&nbsp\;<br />\nBar &amp\; Bistro Table Sponsor: Back to Health Chiropractic&nbsp\;<br />\nSilent Auction Sponsor: Grove &amp\; Platt Dental Associates&nbsp\;<br />\nSilent Auction Item Sponsor: Miller\, Fidler &amp\; Hinke Insurance&nbsp\;<br />\n&nbsp\;&nbsp\;&nbsp\;&nbsp\;&nbsp\;&nbsp\;&nbsp\;&nbsp\;&nbsp\;&nbsp\;&nbsp\;&nbsp\;&nbsp\;&nbsp\;&nbsp\;&nbsp\;&nbsp\;&nbsp\;&nbsp\;&nbsp\;&nbsp\;&nbsp\;&nbsp\;&nbsp\;&nbsp\;&nbsp\;&nbsp\;&nbsp\;&nbsp\;&nbsp\;&nbsp\;&nbsp\;&nbsp\;&nbsp\;&nbsp\;&nbsp\;&nbsp\;&nbsp\;&nbsp\;&nbsp\;&nbsp\;&nbsp\;&nbsp\;&nbsp\;&nbsp\; &nbsp\;Godfather&#39\;s Pizza&nbsp\;<br />\n&nbsp\;&nbsp\;&nbsp\;&nbsp\;&nbsp\;&nbsp\;&nbsp\;&nbsp\;&nbsp\;&nbsp\;&nbsp\;&nbsp\;&nbsp\;&nbsp\;&nbsp\;&nbsp\;&nbsp\;&nbsp\;&nbsp\;&nbsp\;&nbsp\;&nbsp\;&nbsp\;&nbsp\;&nbsp\;&nbsp\;&nbsp\;&nbsp\;&nbsp\;&nbsp\;&nbsp\;&nbsp\;&nbsp\;&nbsp\;&nbsp\;&nbsp\;&nbsp\;&nbsp\;&nbsp\;&nbsp\;&nbsp\;&nbsp\;&nbsp\;&nbsp\;&nbsp\; &nbsp\; Letsch Law Firm&nbsp\;
LOCATION:Stoney Creek Hotel & Conference Center 5291 Stoney Creek Court Johnston\, IA 50131
UID:e.2636.1461
SEQUENCE:3
DTSTAMP:20260423T125659Z
URL:https://business.grimesiowa.com/events/details/grimes-chamber-economic-development-s-annual-dinner-1461
END:VEVENT

END:VCALENDAR
