BEGIN:VCALENDAR
VERSION:2.0
PRODID:-//ChamberMaster//Event Calendar 2.0//EN
METHOD:PUBLISH
X-PUBLISHED-TTL:P3D
REFRESH-INTERVAL:P3D
CALSCALE:GREGORIAN
BEGIN:VEVENT
DTSTART:20180125T230000Z
DTEND:20180126T030000Z
X-MICROSOFT-CDO-ALLDAYEVENT:FALSE
SUMMARY:Grimes Chamber & Economic Development's Annual Dinner
DESCRIPTION:You and your guests are invited to  GCED's  Annual Dinner\, "And the Award Goes To"\, on January 25\, 2018.  5:00 PM Cocktail Hour (cash bar) 6:00 PM Dinner\, Entertainment and Awards.  Join us for this Oscar worthy evening.  \n\n\n\nA HUGE thank you to all of our sponsors. This would not be possible without all of you!\n\n\n\nBusiness of the Year Award Sponsor: Golden Openings\n\nCitizen of the Year Award Sponsor: Shade Tree Auto\n\nSilver Sponsors: City State Bank\n\n                              Black Hills Energy\n\nEntertainment Sponsors: Fox Engineering\n\n                                            Athletico Physical Therapy\n\nCorporate Table Sponsors: Bankers Trust\n\n                                               City Of Grimes\n\n                                               Grimes Volunteer Support Services\n\n                                               Letsch Law Firm\n\nDecoration Sponsors: All Pro Concrete\n\n                                      Trio Marketing\n\nBar & Bistro Table Sponsor: Back To Health Chiropractic\n\nRegistration Table Sponsor: INSPRO Insurance\n\nSilent Auction Sponsor: Grove & Platt Dental Associates
X-ALT-DESC;FMTTYPE=text/html:You and your guests are invited to &nbsp\;GCED&#39\;s&nbsp\; Annual Dinner\, <em><strong>&quot\;And the Award</strong></em> <em><strong>Goes To&quot\;</strong></em>\, on January 25\, 2018.&nbsp\; 5:00 PM Cocktail Hour (cash bar) 6:00 PM Dinner\, Entertainment and Awards.&nbsp\; Join us for this Oscar worthy evening.&nbsp\;&nbsp\;<br />\n<br />\nA <span style="font-size:14px\;"><em><strong>HUGE </strong></em></span>thank you to all of our sponsors. This would not be possible without all of you!<br />\n<br />\n<strong>Business of the Year Award Sponsor:</strong> Golden Openings<br />\n<strong>Citizen of the Year Award Sponsor:</strong> Shade Tree Auto<br />\n<strong>Silver Sponsors:</strong> City State Bank<br />\n&nbsp\; &nbsp\; &nbsp\; &nbsp\; &nbsp\; &nbsp\; &nbsp\; &nbsp\; &nbsp\; &nbsp\; &nbsp\; &nbsp\; &nbsp\; &nbsp\; &nbsp\; Black Hills Energy<br />\n<strong>Entertainment Sponsors:</strong> Fox&nbsp\;Engineering<br />\n&nbsp\; &nbsp\; &nbsp\; &nbsp\; &nbsp\; &nbsp\; &nbsp\; &nbsp\; &nbsp\; &nbsp\; &nbsp\; &nbsp\; &nbsp\; &nbsp\; &nbsp\; &nbsp\; &nbsp\; &nbsp\; &nbsp\; &nbsp\; &nbsp\; &nbsp\;&nbsp\;Athletico Physical Therapy<br />\n<strong>Corporate Table Sponsors:</strong>&nbsp\;Bankers Trust<br />\n&nbsp\; &nbsp\; &nbsp\; &nbsp\; &nbsp\; &nbsp\; &nbsp\; &nbsp\; &nbsp\; &nbsp\; &nbsp\; &nbsp\; &nbsp\; &nbsp\; &nbsp\; &nbsp\; &nbsp\; &nbsp\; &nbsp\; &nbsp\; &nbsp\; &nbsp\; &nbsp\; &nbsp\;City Of Grimes<br />\n&nbsp\; &nbsp\; &nbsp\; &nbsp\; &nbsp\; &nbsp\; &nbsp\; &nbsp\; &nbsp\; &nbsp\; &nbsp\; &nbsp\; &nbsp\; &nbsp\; &nbsp\; &nbsp\; &nbsp\; &nbsp\; &nbsp\; &nbsp\; &nbsp\; &nbsp\; &nbsp\; &nbsp\;Grimes Volunteer Support Services<br />\n&nbsp\; &nbsp\; &nbsp\; &nbsp\; &nbsp\; &nbsp\; &nbsp\; &nbsp\; &nbsp\; &nbsp\; &nbsp\; &nbsp\; &nbsp\; &nbsp\; &nbsp\; &nbsp\; &nbsp\; &nbsp\; &nbsp\; &nbsp\; &nbsp\; &nbsp\; &nbsp\; &nbsp\;Letsch Law Firm<br />\n<strong>Decoration Sponsors:</strong> All Pro Concrete<br />\n&nbsp\; &nbsp\; &nbsp\; &nbsp\; &nbsp\; &nbsp\; &nbsp\; &nbsp\; &nbsp\; &nbsp\; &nbsp\; &nbsp\; &nbsp\; &nbsp\; &nbsp\; &nbsp\; &nbsp\; &nbsp\; &nbsp\; Trio Marketing<br />\n<strong>Bar &amp\; Bistro Table Sponsor:</strong> Back To Health Chiropractic<br />\n<strong>Registration Table Sponsor:</strong> INSPRO&nbsp\;Insurance<br />\n<strong>Silent Auction Sponsor:</strong> Grove &amp\; Platt Dental Associates
LOCATION:Stoney Creek Hotel & Conference Center 5291 Stoney Creek Court Johnston\, IA 50131
UID:e.2636.223
SEQUENCE:3
DTSTAMP:20260424T220609Z
URL:https://business.grimesiowa.com/events/details/grimes-chamber-economic-development-s-annual-dinner-223
END:VEVENT

END:VCALENDAR
