BEGIN:VCALENDAR
VERSION:2.0
PRODID:-//ChamberMaster//Event Calendar 2.0//EN
METHOD:PUBLISH
X-PUBLISHED-TTL:P3D
REFRESH-INTERVAL:P3D
CALSCALE:GREGORIAN
BEGIN:VEVENT
DTSTART:20170126T230000Z
DTEND:20170127T030000Z
X-MICROSOFT-CDO-ALLDAYEVENT:FALSE
SUMMARY:Grimes Chamber & Economic Development's Annual Dinner
DESCRIPTION:You are invited to GCED's Annual Dinner and Awards Ceremony as we "Let the Good Times Role" Mardi Gras Style.  Awards will be handed out to our Ambassador\, Business\, Citizen and Educator "Of the Year".  Entertainment by The Pelicans New Orleans Jazz Band. A mask contest will be held so wear (or bring)  your Mardi Gras mask and join in the celebration!
X-ALT-DESC;FMTTYPE=text/html:You are invited to GCED&#39\;s&nbsp\;Annual Dinner and Awards Ceremony as we &quot\;Let the Good Times Role&quot\; Mardi Gras Style. &nbsp\;Awards will be handed out to our Ambassador\, Business\, Citizen and Educator &quot\;Of the Year&quot\;. &nbsp\;Entertainment by The Pelicans New Orleans Jazz Band. A mask contest will be held so wear (or bring) &nbsp\;your Mardi Gras mask and join in the celebration!<br />\n&nbsp\;
LOCATION:Stoney Creek Hotel & Conference Center 5291 Stoney Creek Court Johnston\, IA 50131
UID:e.2636.50
SEQUENCE:3
DTSTAMP:20260425T131003Z
URL:https://business.grimesiowa.com/events/details/grimes-chamber-economic-development-s-annual-dinner-50
END:VEVENT

END:VCALENDAR
