BEGIN:VCALENDAR
VERSION:2.0
PRODID:-//ChamberMaster//Event Calendar 2.0//EN
METHOD:PUBLISH
X-PUBLISHED-TTL:P3D
REFRESH-INTERVAL:P3D
CALSCALE:GREGORIAN
BEGIN:VEVENT
DTSTART:20171220T223000Z
DTEND:20171221T003000Z
X-MICROSOFT-CDO-ALLDAYEVENT:FALSE
SUMMARY:Grimes Chamber & Economic Development's B.I.G. (Accounting & Tax Professionals)
DESCRIPTION:Please join us for B.I.G. (Business In Grimes) at Accounting & Tax Professional for our Holiday after-hours. Wear your UGLY CHRISTMAS SWEATER or UGLY CHRISTMAS HAT to this event.  This will be a great time of networking\, fun\, food\, beverages and holiday cheer.  Please bring a warm item of winter wear to donate to a needy child. Suggestions include hats\, mittens\, scarves or jackets.
X-ALT-DESC;FMTTYPE=text/html:Please join us for <strong>B.I.G.</strong> <strong>(Business In Grimes)</strong> at Accounting &amp\; Tax Professional for our Holiday after-hours. Wear your UGLY CHRISTMAS SWEATER or UGLY CHRISTMAS HAT to this event.&nbsp\; This will be a great time of networking\, fun\, food\, beverages and holiday cheer.&nbsp\; Please bring a warm item of winter wear to donate to a&nbsp\;needy child. Suggestions include hats\, mittens\, scarves or jackets.&nbsp\; &nbsp\;
LOCATION:Accounting & Tax Professionals 270 W 1st St\; Ste K Grimes\, IA 50111
UID:e.2636.266
SEQUENCE:3
DTSTAMP:20260424T220927Z
URL:https://business.grimesiowa.com/events/details/grimes-chamber-economic-development-s-b-i-g-accounting-tax-professionals-266
END:VEVENT

END:VCALENDAR
