BEGIN:VCALENDAR
VERSION:2.0
PRODID:-//ChamberMaster//Event Calendar 2.0//EN
METHOD:PUBLISH
X-PUBLISHED-TTL:P3D
REFRESH-INTERVAL:P3D
CALSCALE:GREGORIAN
BEGIN:VEVENT
DTSTART:20180104T143000Z
DTEND:20180104T150000Z
X-MICROSOFT-CDO-ALLDAYEVENT:FALSE
SUMMARY:Grimes Chamber & Economic Development's Business of the Year Announcement
DESCRIPTION:You are invited to tune into the Van & Bonnie Show on WHO Radio 1040\, on January 4th at 8:30 AM\, as we surprise the Business of the Year with a phone call announcing that they have won. This is a fun opportunity to be surprised and a sneak peak into the award they will receive at the January 25th Annual Dinner.
X-ALT-DESC;FMTTYPE=text/html:You are invited to tune into the <strong>Van &amp\; Bonnie Show on WHO Radio 1040\, on January 4th at 8:30 AM\,</strong>&nbsp\;as we surprise the <span style="font-size:14px\;"><strong>Business of the Year</strong></span> with a phone call announcing that they have won. This is a fun opportunity to be surprised and a sneak peak into the award they will receive at the January 25th Annual Dinner.
LOCATION:WHO Radio 1040
UID:e.2636.1270
SEQUENCE:3
DTSTAMP:20260424T204138Z
URL:https://business.grimesiowa.com/events/details/grimes-chamber-economic-development-s-business-of-the-year-announcement-1270
END:VEVENT

END:VCALENDAR
