BEGIN:VCALENDAR
VERSION:2.0
PRODID:-//ChamberMaster//Event Calendar 2.0//EN
METHOD:PUBLISH
X-PUBLISHED-TTL:P3D
REFRESH-INTERVAL:P3D
CALSCALE:GREGORIAN
BEGIN:VEVENT
DTSTART:20161101T213000Z
DTEND:20161101T230000Z
X-MICROSOFT-CDO-ALLDAYEVENT:FALSE
SUMMARY:Grimes Chamber\, Johnston Chamber & Polk City Movember Kick Off Party
DESCRIPTION:Join the members of Grimes Chamber & Economic Development\, the Johnston Chamber and the Polk City Chamber at Greenbriar in Johnston as team Moliscious kick off No-Shave-November\, a fun month long event to raise awareness of Men's Health Issues.  This is an opportunity for us to highlight important men's health issues by having men grow moustaches for the month.  Prizes will be awarded - categories to be announced.
X-ALT-DESC;FMTTYPE=text/html:Join the members of Grimes Chamber &amp\; Economic Development\, the Johnston Chamber and the Polk City Chamber at Greenbriar in Johnston as team Moliscious kick off No-Shave-November\, a fun month long event to raise awareness of Men&#39\;s Health Issues. &nbsp\;This is an opportunity for us to highlight important men&#39\;s health issues by having men grow&nbsp\;moustaches for the month. &nbsp\;Prizes will be awarded - categories to be announced.
LOCATION:Trostel's Greenbrian 5810 Merle Hay Road Johnston
UID:e.2636.38
SEQUENCE:3
DTSTAMP:20260425T162959Z
URL:https://business.grimesiowa.com/events/details/grimes-chamber-johnston-chamber-polk-city-movember-kick-off-party-38
END:VEVENT

END:VCALENDAR
