BEGIN:VCALENDAR
VERSION:2.0
PRODID:-//ChamberMaster//Event Calendar 2.0//EN
METHOD:PUBLISH
X-PUBLISHED-TTL:P3D
REFRESH-INTERVAL:P3D
CALSCALE:GREGORIAN
BEGIN:VEVENT
DTSTART:20161130T223000Z
DTEND:20161201T000000Z
X-MICROSOFT-CDO-ALLDAYEVENT:FALSE
SUMMARY:Grimes Chamber\, Johnston Chamber & Polk City Movember Wrap Up Party
DESCRIPTION:Join the members of Grimes Chamber & Economic Development\, the Johnston Chamber and the Polk City Chamber at Greenbriar in Johnston as team Moliscious wraps up No-Shave-November. This has been a fun month long event to raise awareness of Men's Health Issues.  This is an opportunity for us to highlight important men's health issues by having men grow moustaches for the month.  At this event the judges will pick the winners of the categories and prizes will be awarded. Appetizers will be available - cash bar. All members and guests of the Grimes\, Johnston and Polk City Chambers are welcome to attend.
X-ALT-DESC;FMTTYPE=text/html:Join the members of Grimes Chamber &amp\; Economic Development\, the Johnston Chamber and the Polk City Chamber at Greenbriar in Johnston as team Moliscious wraps up No-Shave-November. This has been&nbsp\;a fun month long event to raise awareness of Men&#39\;s Health Issues. &nbsp\;This is an opportunity for us to highlight important men&#39\;s health issues by having men grow&nbsp\;moustaches for the month. &nbsp\;At this event the judges will pick the winners of the categories and prizes will be awarded. Appetizers will be available - cash bar. All members and guests of the Grimes\, Johnston and Polk City Chambers are welcome to attend. &nbsp\;
LOCATION:Food Depot 3000 SE Grimes Blvd\; Ste 200 Grimes\, IA 50111
UID:e.2636.45
SEQUENCE:3
DTSTAMP:20260425T162936Z
URL:https://business.grimesiowa.com/events/details/grimes-chamber-johnston-chamber-polk-city-movember-wrap-up-party-45
END:VEVENT

END:VCALENDAR
