BEGIN:VCALENDAR
VERSION:2.0
PRODID:-//ChamberMaster//Event Calendar 2.0//EN
METHOD:PUBLISH
X-PUBLISHED-TTL:P3D
REFRESH-INTERVAL:P3D
CALSCALE:GREGORIAN
BEGIN:VEVENT
DTSTART:20210406T220000Z
DTEND:20210406T230000Z
X-MICROSOFT-CDO-ALLDAYEVENT:FALSE
SUMMARY:Grimes Chiropractic Ribbon Cutting!
DESCRIPTION:Join us and Grimes Chiropractic to help celebrate this new member and business in Grimes with a Ribbon Cutting!\n\nFood and drink will be available for guests!\n\n\n\nThe business requests that all guests wear masks and practice social distancing.
X-ALT-DESC;FMTTYPE=text/html:<div style="text-align: center\;"><span style="font-size:18px\;">Join us and <span style="color:#B22222\;">Grimes Chiropractic</span> to help celebrate this new member and business in Grimes with a Ribbon Cutting!<br />\nFood and drink will be available for guests!<br />\n<br />\n<span style="font-size:14px\;">The business requests that all guests wear masks and practice social distancing.</span></span></div>\n
LOCATION:Grimes Chiropractic 1830 SE Princeton Dr Ste D Grimes\, IA 50111
UID:e.2636.1607
SEQUENCE:3
DTSTAMP:20260422T173254Z
URL:https://business.grimesiowa.com/events/details/grimes-chiropractic-ribbon-cutting-1607
END:VEVENT

END:VCALENDAR
