BEGIN:VCALENDAR
VERSION:2.0
PRODID:-//ChamberMaster//Event Calendar 2.0//EN
METHOD:PUBLISH
X-PUBLISHED-TTL:P3D
REFRESH-INTERVAL:P3D
CALSCALE:GREGORIAN
BEGIN:VEVENT
DTSTART:20221027T200000Z
DTEND:20221027T223000Z
X-MICROSOFT-CDO-ALLDAYEVENT:FALSE
SUMMARY:Grimes Economic Development Bus Tour!
DESCRIPTION:Join us on Thursday\, October 27th for the first ever Grimes Economic Development Bus Tour! Drive around Grimes to see what's there\, what's new and what's coming!\n\n\n\nAppetizers Catered by Hy-Vee!\n\n\n\nThe Social Hour is open to all who wish to attend. We only ask that you contact our office with an RSVP.\n\n\n\nPresenting Sponsor:\n\nCushman & Wakefield | Iowa Commercial Advisors\n\nSocial Hour Sponsor:\n\nISG\n\nWelcome Table Sponsor:\n\nGolden Openings
X-ALT-DESC;FMTTYPE=text/html:<div style="text-align: center\;"><span style="color: rgb(102\, 102\, 102)\; font-family: Helvetica\, sans-serif\; font-size: 16px\;"><span style="font-size:20px\;">Join us on Thursday\, October 27th for the first ever Grimes Economic Development Bus Tour! Drive around Grimes to see what&#39\;s there\, what&#39\;s new and what&#39\;s coming!<br />\n<br />\nAppetizers Catered by Hy-Vee!<br />\n<br />\nThe Social&nbsp\;Hour is open to all who wish to attend. We only ask that you contact our office with an RSVP.</span><br />\n<br />\n<span style="font-size:22px\;"><strong>Presenting Sponsor:</strong><br />\n<a href="https://iowacommercialadvisors.com/">Cushman &amp\; Wakefield | Iowa Commercial Advisors</a><br />\n<strong>Social Hour Sponsor:</strong><br />\n<a href="https://www.isginc.com/">ISG</a><br />\n<strong>Welcome Table Sponsor:</strong><br />\n<a href="https://goldenopenings.com/">Golden Openings</a></span></span></div>\n
LOCATION:3390 SE Crossroads Dr. Ste 400 (Next to McDivot's off 141)
UID:e.2636.1681
SEQUENCE:3
DTSTAMP:20260419T162822Z
URL:https://business.grimesiowa.com/events/details/grimes-economic-development-bus-tour-1681
END:VEVENT

END:VCALENDAR
