BEGIN:VCALENDAR
VERSION:2.0
PRODID:-//ChamberMaster//Event Calendar 2.0//EN
METHOD:PUBLISH
X-PUBLISHED-TTL:P3D
REFRESH-INTERVAL:P3D
CALSCALE:GREGORIAN
BEGIN:VEVENT
DTSTART;VALUE=DATE:20160609
DTEND;VALUE=DATE:20160612
TRANSP:TRANSPARENT
X-MICROSOFT-CDO-ALLDAYEVENT:TRUE
SUMMARY:Grimes Governors Days
DESCRIPTION:Governors Days is one of the grandest summer festivals in the Des Moines\, Iowa metropolitan area. Held entirely within the Governors District\, in the heart of Grimes\, Iowa\, this premier summer event incorporates all the ingredients for an exciting family friendly event.\n\nComplete with concerts\, parades\, carnivals\, car shows and much\, much more\; Governors Days has something for everyone. This grand community event is headed up by a vibrant group of dedicated volunteers and organized with the help of Grimes Chamber & Economic Development.\n\nCome and participate in this wonderful community event on June 9- 11\, 2016. Admission to the festival is free thanks to the MANY wonderful business sponsors from the community.
X-ALT-DESC;FMTTYPE=text/html:<p align="justify">Governors Days is one of the grandest summer festivals in the Des Moines\, Iowa metropolitan area. Held entirely within the <a href="http://www.governorsdistrict.org/" target="_blank">Governors District</a>\, in the heart of Grimes\, Iowa\, this premier summer event incorporates all the ingredients for an exciting family friendly event.</p>\n\n<p align="justify">Complete with concerts\, parades\, carnivals\, car shows and much\, much more\; Governors Days has something for everyone. This grand community event is headed up by a vibrant group of dedicated volunteers and organized with the help of <a href="http://www.grimesiowa.com" target="_blank">Grimes Chamber &amp\; Economic Development</a>.</p>\n\n<p align="justify">Come and participate in this wonderful community event on <strong>June 9- 11\, 2016.</strong> Admission to the festival is free thanks to the MANY wonderful business sponsors from the community.</p>\n
LOCATION:Governors Days is a celebration that takes place throughout the community. However\, most activity is in or near Grimes Waterworks Park\, located at 200 N James Street\, Grimes\, Iowa.
UID:e.2636.9
SEQUENCE:3
DTSTAMP:20260426T005702Z
URL:https://business.grimesiowa.com/events/details/grimes-governors-days-06-09-2016-9
END:VEVENT

END:VCALENDAR
