BEGIN:VCALENDAR
VERSION:2.0
PRODID:-//ChamberMaster//Event Calendar 2.0//EN
METHOD:PUBLISH
X-PUBLISHED-TTL:P3D
REFRESH-INTERVAL:P3D
CALSCALE:GREGORIAN
BEGIN:VEVENT
DTSTART:20221204T230000Z
DTEND:20221205T010000Z
X-MICROSOFT-CDO-ALLDAYEVENT:FALSE
SUMMARY:Grimes Holiday Celebration!
DESCRIPTION:Santa and Mrs. Claus are coming to Grimes! Join us for our Drive-Thru event! Bring the kiddos to see Santa and enjoy activities including Trivia\, goodie bags\, letters to Santa\, and holiday lights and music! This annual event is fun for the whole family. Make sure to bring along your letters to Santa for his little helpers to pick up!\n\n \n\nThank you to our sponsors for helping make this event possible: \n\nPresenting Sponsor: Andrea Sabus State Farm Insurance\n\nGold Sponsor: Black Hills Energy\, Flooring America\, MidAmerican Energy\n\nSanta & Mrs. Claus: Rainbow of the Heartland\n\nHoliday Sponsors: Back to Health Chiropractic\, BDI Signs\n\nCandy Sponsor: City State Bank\n\nGoodie Bag Sponsor: Julie Quandt - Realtor RE/MAX Precision\n\nReindeer Juice Sponsor: Grimes Plaza Veterinary Clinic\, MetroNet\n \n\n**For any and all updates\, please visit the Facebook Event Page**\n\n \n\nInformation about the Holiday Celebration event!\n\n\n	This is a Drive-Thru only event! You will be able to wave at Santa and Mrs. Claus from the safety of your cars.\n	The line for this event will be cut off at 6:45pm to ensure that everyone in already line will be able to get through and for our event to end on schedule.\n	Goodie Bags are first come first serve! You must be in attendance to receive them\, unfortunately no extra bags will be given to those at home. We have a lot to give but want to ensure all in attendance have a chance to receive them.\n	This is a fairly new event\, so be sure to thank all those involved in being able to make this event possible for the community!\n	We will try to direct traffic as smoothly as possible\, so please be patient with the organizers of this event as we want everyone to be able to see Santa.
X-ALT-DESC;FMTTYPE=text/html:<div style="text-align: center\;"><span style="color: rgb(85\, 85\, 85)\; font-family: Montserrat\, sans-serif\; font-size: 16px\;">Santa and Mrs. Claus are coming to Grimes! Join us for our Drive-Thru event! Bring the kiddos to see Santa and enjoy activities including Trivia\, goodie bags\, letters to Santa\, and holiday lights and music! This annual event is fun for the whole family. Make sure to bring along your letters to Santa for his little helpers to pick up!</span><br />\n&nbsp\;</div>\n\n<div style="text-align: center\;"><span style="color: rgb(85\, 85\, 85)\; font-family: Montserrat\, sans-serif\; font-size: 16px\; text-align: center\;">Thank you to our sponsors for helping make this event possible:&nbsp\;</span><br style="box-sizing: border-box\; color: rgb(85\, 85\, 85)\; font-family: Montserrat\, sans-serif\; font-size: 16px\; text-align: center\;" />\n<span style="box-sizing: border-box\; font-weight: bolder\; color: rgb(85\, 85\, 85)\; font-family: Montserrat\, sans-serif\; font-size: 16px\; text-align: center\;"><span style="box-sizing: border-box\; font-size: 18px\;">Presenting Sponsor:&nbsp\;<u><a href="https://www.andreasabusinsurance.com/" style="box-sizing: border-box\; background-color: transparent\; color: rgb(132\, 1\, 35)\; text-decoration-line: none\; overflow-wrap: break-word\;">Andrea Sabus State Farm Insurance</a></u></span></span><br style="box-sizing: border-box\; color: rgb(85\, 85\, 85)\; font-family: Montserrat\, sans-serif\; font-size: 16px\; text-align: center\;" />\n<span style="font-size:16px\;"><span style="color: rgb(85\, 85\, 85)\; font-family: Montserrat\, sans-serif\; text-align: center\;">Gold Sponsor: <a href="https://www.blackhillsenergy.com/">Black Hills Energy</a>\, <a href="https://www.flooringamericaclive.com/">Flooring America</a>\, <a href="https://www.midamericanenergy.com/home">MidAmerican Energy</a></span><br style="box-sizing: border-box\; color: rgb(85\, 85\, 85)\; font-family: Montserrat\, sans-serif\; font-size: 16px\; text-align: center\;" />\n<span style="color: rgb(85\, 85\, 85)\; font-family: Montserrat\, sans-serif\; text-align: center\;">Santa &amp\; Mrs. Claus: <a href="https://rainbowoftheheartland.com/">Rainbow of the Heartland</a></span><br style="box-sizing: border-box\; color: rgb(85\, 85\, 85)\; font-family: Montserrat\, sans-serif\; font-size: 16px\; text-align: center\;" />\n<span style="color: rgb(85\, 85\, 85)\; font-family: Montserrat\, sans-serif\; text-align: center\;">Holiday Sponsors: <a href="https://www.backtohealthchirogrimes.com/">Back to Health Chiropractic</a>\, <a href="https://www.bdisigns.com/">BDI Signs</a></span><br style="box-sizing: border-box\; color: rgb(85\, 85\, 85)\; font-family: Montserrat\, sans-serif\; font-size: 16px\; text-align: center\;" />\n<span style="color: rgb(85\, 85\, 85)\; font-family: Montserrat\, sans-serif\; text-align: center\;">Candy Sponsor: <a href="https://www.citystatebank.com/">City State Bank</a></span><br style="box-sizing: border-box\; color: rgb(85\, 85\, 85)\; font-family: Montserrat\, sans-serif\; font-size: 16px\; text-align: center\;" />\n<span style="color: rgb(85\, 85\, 85)\; font-family: Montserrat\, sans-serif\; text-align: center\;">Goodie Bag Sponsor: <a href="https://www.remax.com/real-estate-agents/julie-quandt-west-des-moines-ia/102024430">Julie Quandt - Realtor RE/MAX Precision</a></span><br style="box-sizing: border-box\; color: rgb(85\, 85\, 85)\; font-family: Montserrat\, sans-serif\; font-size: 16px\; text-align: center\;" />\n<span style="color: rgb(85\, 85\, 85)\; font-family: Montserrat\, sans-serif\; text-align: center\;">Reindeer Juice Sponsor: <a href="https://grimesvet.com/">Grimes Plaza Veterinary Clinic</a>\, <a href="https://www.metronetinc.com/">MetroNet</a></span></span></div>\n&nbsp\;\n\n<div style="text-align: center\;"><span style="box-sizing: border-box\; font-weight: bolder\; color: rgb(85\, 85\, 85)\; font-family: Montserrat\, sans-serif\; font-size: 22px\; text-align: center\;">**For any and all updates\, please visit the Facebook Event Page**</span><br />\n&nbsp\;</div>\n\n<div style="box-sizing: border-box\; color: rgb(85\, 85\, 85)\; font-family: Montserrat\, sans-serif\; font-size: 16px\; text-align: center\;"><span style="box-sizing: border-box\;"><span style="box-sizing: border-box\; font-family: arial\;"><span style="box-sizing: border-box\; font-size: 18px\;"><span style="box-sizing: border-box\; font-weight: bolder\;"><span style="box-sizing: border-box\; color: rgb(5\, 5\, 5)\;">Information about the Holiday Celebration event!</span></span></span></span></span></div>\n\n<ul style="box-sizing: border-box\; margin-top: 0px\; margin-bottom: 1rem\; color: rgb(85\, 85\, 85)\; font-family: Montserrat\, sans-serif\; font-size: 16px\;">\n	<li style="box-sizing: border-box\; margin: 0px\; text-align: center\;"><span style="box-sizing: border-box\; font-family: arial\;">This is a Drive-Thru only event! You will be able to wave at Santa and Mrs. Claus from the safety of your cars.</span></li>\n	<li style="box-sizing: border-box\; margin: 0px\; text-align: center\;"><span style="box-sizing: border-box\; font-family: arial\;">The line for this event will be cut off at 6:45pm to ensure that everyone in already line will be able to get through and for our event to end on schedule.</span></li>\n	<li style="box-sizing: border-box\; margin: 0px\; text-align: center\;"><span style="box-sizing: border-box\; font-family: arial\;">Goodie Bags are first come first serve! You must be in attendance to receive them\, unfortunately no extra bags will be given to those at home. We have a lot to give but want to ensure all in attendance have a chance to receive them.</span></li>\n	<li style="box-sizing: border-box\; margin: 0px\; text-align: center\;"><span style="box-sizing: border-box\; font-family: arial\;">This is a fairly new event\, so be sure to thank all those involved in being able to make this event possible for the community!</span></li>\n	<li style="box-sizing: border-box\; margin: 0px\; text-align: center\;"><span style="box-sizing: border-box\; font-family: arial\;">We will try to direct traffic as smoothly as possible\, so please be patient with the organizers of this event as we want everyone to be able to see Santa.</span></li>\n</ul>\n\n<div style="text-align: center\;">&nbsp\;</div>\n
LOCATION:Grimes South Sports Complex 750 S James St Grimes\, IA 50111
UID:e.2636.1679
SEQUENCE:3
DTSTAMP:20260419T132802Z
URL:https://business.grimesiowa.com/events/details/grimes-holiday-celebration-1679
END:VEVENT

END:VCALENDAR
