BEGIN:VCALENDAR
VERSION:2.0
PRODID:-//ChamberMaster//Event Calendar 2.0//EN
METHOD:PUBLISH
X-PUBLISHED-TTL:P3D
REFRESH-INTERVAL:P3D
CALSCALE:GREGORIAN
BEGIN:VEVENT
DTSTART:20211205T233000Z
DTEND:20211206T013000Z
X-MICROSOFT-CDO-ALLDAYEVENT:FALSE
SUMMARY:Grimes Holiday Celebration 2021
DESCRIPTION:Santa and Mrs. Claus are coming to Grimes! Join us for our Drive-Thru event! Bring the kiddos to see Santa and enjoy activities including Trivia\, goodie bags\, tree voting contest\, and holiday lights and music! This annual event is fun for the whole family. Make sure to bring along your letters to Santa for his little helpers to pick up!\nThank you to our sponsors for helping make this event possible: \n\nPresenting Sponsor: Andrea Sabus State Farm Insurance \n\nGold Sponsor: Flooring America\, MidAmerican Energy\, Golden Rule PH&C\n\nSanta & Mrs. Claus: Rainbow of the Heartland\n\nHoliday Sponsors: Back to Health Chiropractic\n\n BDI Signs\n\nCandy Sponsor: City State Bank  Timmins\, Jacobsen & Strawhacker\n\nGoodie Bag Sponsor: Julie Quandt - Realtor RE/MAX Precision\n\nReindeer Juice Sponsor: Grimes Plaza Veterinary Clinic\, Walmart\n \n\n**For any and all updates\, please visit the Facebook Event Page (Under Discussion Tab) HERE**\n\n\n\n\n\nInformation about the Holiday Celebration event!\n\n\n	This is a Drive-Thru only event! You will be able to wave at Santa and Mrs. Claus from the safety of your cars.\n	The line for this event will be cut off at 7:15pm to ensure that everyone in already line will be able to get through and for our event to end on schedule.\n	Goodie Bags are first come first serve! You must be in attendance to receive them\, unfortunately no extra bags will be given to those at home. We have a lot to give but want to ensure all in attendance have a chance to receive them.\n	This is a fairly new event\, so be sure to thank all those involved in being able to make this event possible for the community!\n	We will try to direct traffic as smoothly as possible\, so please be patient with the organizers of this event as we want everyone to be able to see Santa.
X-ALT-DESC;FMTTYPE=text/html:Santa and Mrs. Claus are coming to Grimes! Join us for our Drive-Thru event! Bring the kiddos to see Santa and enjoy activities including Trivia\, goodie bags\, tree voting contest\, and holiday lights and music! This annual event is fun for the whole family. Make sure to bring along your letters to Santa for his little helpers to pick up!\n<div style="text-align: center\;"><span style="font-size:16px\;">Thank you to our sponsors for helping make this event possible:&nbsp\;<br />\n<strong><span style="font-size:18px\;">Presenting Sponsor: <a href="https://www.andreasabusinsurance.com/">Andrea Sabus State Farm Insurance</a>&nbsp\;</span></strong><br />\nGold Sponsor: <a href="https://www.flooringamerica.com/">Flooring America</a>\, <a href="https://www.midamericanenergy.com/home">MidAmerican Energy</a>\, <a href="https://goldenrulephc.com/">Golden Rule PH&amp\;C</a><br />\nSanta &amp\; Mrs. Claus: <a href="https://rainbowoftheheartland.com/residential-play-systems/?gclid=Cj0KCQiA-K2MBhC-ARIsAMtLKRunw9MLfDZtqwkLPsVDmEcyC9F7ytHUDCy4ezbmanIuyavSYz9gjx8aAsDEEALw_wcB">Rainbow of the Heartland</a><br />\nHoliday Sponsors: <a href="https://www.backtohealthchirogrimes.com/">Back to Health Chiropractic</a><br />\n<a href="https://www.bdisigns.com/">&nbsp\;BDI Signs</a><br />\nCandy Sponsor: <a href="https://www.citystatebank.com/">City State Bank&nbsp\;</a>&nbsp\;<a href="https://tjscpas.com/">Timmins\, Jacobsen &amp\; Strawhacker</a><br />\nGoodie Bag Sponsor: <a href="https://www.juliequandtrealtor.com/">Julie Quandt - Realtor RE/MAX Precision</a><br />\nReindeer Juice Sponsor: <a href="https://grimesvet.com/">Grimes Plaza Veterinary Clinic</a>\, <a href="https://www.walmart.com/">Walmart</a></span></div>\n&nbsp\;\n\n<div style="text-align: center\;"><span style="font-size:22px\;"><strong>**For any and all updates\, please visit the Facebook Event Page (Under Discussion Tab)&nbsp\;<a href="https://www.facebook.com/events/647748486216111/?acontext=%7B%22event_action_history%22%3A[%7B%22surface%22%3A%22page%22%7D]%7D">HERE</a>**</strong></span><br />\n<br />\n<br />\n<span style="font-size:16px\;"><span style="font-family:arial\;"><span style="font-size:18px\;"><strong><span style="color:#050505\;">Information about the Holiday Celebration event!</span></strong></span></span></span></div>\n\n<ul>\n	<li style="text-align: center\;"><span style="font-family:arial\;"><span style="font-size:16px\;">This is a Drive-Thru only event! You will be able to wave at Santa and Mrs. Claus from the safety of your cars.</span></span></li>\n	<li style="text-align: center\;"><span style="font-family:arial\;"><span style="font-size:16px\;">The line for this event will be cut off at 7:15pm to ensure that everyone in already line will be able to get through and for our event to end on schedule.</span></span></li>\n	<li style="text-align: center\;"><span style="font-family:arial\;"><span style="font-size:16px\;">Goodie Bags are first come first serve! You must be in attendance to receive them\, unfortunately no extra bags will be given to those at home. We have a lot to give but want to ensure all in attendance have a chance to receive them.</span></span></li>\n	<li style="text-align: center\;"><span style="font-family:arial\;"><span style="font-size:16px\;">This is a fairly new event\, so be sure to thank all those involved in being able to make this event possible for the community!</span></span></li>\n	<li style="text-align: center\;"><span style="font-family:arial\;"><span style="font-size:16px\;">We will try to direct traffic as smoothly as possible\, so please be patient with the organizers of this event as we want everyone to be able to see Santa.</span></span></li>\n</ul>\n
LOCATION:Grimes South Sports Complex
UID:e.2636.1650
SEQUENCE:3
DTSTAMP:20260420T061945Z
URL:https://business.grimesiowa.com/events/details/grimes-holiday-celebration-2021-1650
END:VEVENT

END:VCALENDAR
