BEGIN:VCALENDAR
VERSION:2.0
PRODID:-//ChamberMaster//Event Calendar 2.0//EN
METHOD:PUBLISH
X-PUBLISHED-TTL:P3D
REFRESH-INTERVAL:P3D
CALSCALE:GREGORIAN
BEGIN:VEVENT
DTSTART;VALUE=DATE:20171203
DTEND;VALUE=DATE:20171204
TRANSP:TRANSPARENT
X-MICROSOFT-CDO-ALLDAYEVENT:TRUE
SUMMARY:Grimes Holiday Celebration
DESCRIPTION:Santa and Mrs. Claus are coming to Grimes!  Bring the kiddos to see Santa and enjoy activities including face painting\, balloon artistry\, crafts\, cookies and hot chocolate.  This annual event is fun for the whole family.\n\n\n\nThank you to the following sponsors for their generous support of this fantastic community tradition! \n\n\n\nPresenting Sponsor:\n\nAndrea Sabus: State Farm Insurance\n\n\n\nSanta & Mrs. Clause Sponsor: \n\nRainbow Play Systems of Iowa\n\n\n\nGold Sponsors: \n\nFlooring America \n\nMidAmerican Energy \n\nGolden Rule Plumbing\, Heating & Cooling \n\nGrimes Parks and Recreation \n\n\n\nBalloon Artist Sponsor:\n\nBack to Health Chiropractic\n\n\n\nFace Painting Sponsor:\n\nBDI SIGNS\n\n\n\nCandy Sponsor: \n\nCity State Bank\n\nRTL Equipment\n\nFareway Food Stores
X-ALT-DESC;FMTTYPE=text/html:Santa and Mrs. Claus are coming to Grimes! &nbsp\;Bring the kiddos to see Santa and enjoy activities including face painting\, balloon artistry\, crafts\, cookies and hot chocolate. &nbsp\;This annual event is fun for the whole family.<br />\n<br />\n<span style="color: rgb(75\, 79\, 86)\; font-family: Helvetica\, Arial\, sans-serif\; font-size: 14px\; background-color: rgb(255\, 255\, 255)\;">Thank you to the following sponsors for their generous support of this fantastic community tradition!&nbsp\;</span><br style="color: rgb(75\, 79\, 86)\; font-family: Helvetica\, Arial\, sans-serif\; font-size: 14px\; background-color: rgb(255\, 255\, 255)\;" />\n<br style="color: rgb(75\, 79\, 86)\; font-family: Helvetica\, Arial\, sans-serif\; font-size: 14px\; background-color: rgb(255\, 255\, 255)\;" />\n<span style="color: rgb(75\, 79\, 86)\; font-family: Helvetica\, Arial\, sans-serif\; font-size: 14px\; background-color: rgb(255\, 255\, 255)\;"><strong>Presenting Sponsor:</strong><br />\n<strong><a href="http://www.andreasabusinsurance.com/">Andrea Sabus: State Farm Insurance</a></strong></span><br style="color: rgb(75\, 79\, 86)\; font-family: Helvetica\, Arial\, sans-serif\; font-size: 14px\; background-color: rgb(255\, 255\, 255)\;" />\n<br style="color: rgb(75\, 79\, 86)\; font-family: Helvetica\, Arial\, sans-serif\; font-size: 14px\; background-color: rgb(255\, 255\, 255)\;" />\n<span style="color: rgb(75\, 79\, 86)\; font-family: Helvetica\, Arial\, sans-serif\; font-size: 14px\; background-color: rgb(255\, 255\, 255)\;"><strong>Santa &amp\; Mrs. Clause Sponsor: </strong><br />\n<a href="https://www.rainbowofiowa.com/"><strong>Rainbow Play Systems of Iowa</strong></a></span><br style="color: rgb(75\, 79\, 86)\; font-family: Helvetica\, Arial\, sans-serif\; font-size: 14px\; background-color: rgb(255\, 255\, 255)\;" />\n<br style="color: rgb(75\, 79\, 86)\; font-family: Helvetica\, Arial\, sans-serif\; font-size: 14px\; background-color: rgb(255\, 255\, 255)\;" />\n<span style="color: rgb(75\, 79\, 86)\; font-family: Helvetica\, Arial\, sans-serif\; font-size: 14px\; background-color: rgb(255\, 255\, 255)\;"><strong>Gold Sponsors: </strong></span><br />\n<strong><span style="font-family: Helvetica\, Arial\, sans-serif\; font-size: 14px\; background-color: rgb(255\, 255\, 255)\;"><a href="http://www.flooringamericaclive.com/"><span style="color:#DAA520\;">Flooring America&nbsp\;</span></a></span><br style="color: rgb(75\, 79\, 86)\; font-family: Helvetica\, Arial\, sans-serif\; font-size: 14px\; background-color: rgb(255\, 255\, 255)\;" />\n<a href="https://www.midamericanenergy.com/"><span style="color:#DAA520\;"><span style="font-family: Helvetica\, Arial\, sans-serif\; font-size: 14px\; background-color: rgb(255\, 255\, 255)\;">MidAmerican Energy </span></span></a><br style="color: rgb(75\, 79\, 86)\; font-family: Helvetica\, Arial\, sans-serif\; font-size: 14px\; background-color: rgb(255\, 255\, 255)\;" />\n<a href="http://www.goldenrulephc.com/"><span style="color:#DAA520\;"><span style="font-family: Helvetica\, Arial\, sans-serif\; font-size: 14px\; background-color: rgb(255\, 255\, 255)\;">Golden Rule Plumbing\, Heating &amp\; Cooling </span></span></a><br style="color: rgb(75\, 79\, 86)\; font-family: Helvetica\, Arial\, sans-serif\; font-size: 14px\; background-color: rgb(255\, 255\, 255)\;" />\n<a href="http://www.grimesiowa.gov/ParksandRecreation.aspx"><span style="color:#DAA520\;"><span style="font-family: Helvetica\, Arial\, sans-serif\; font-size: 14px\; background-color: rgb(255\, 255\, 255)\;">Grimes Parks and Recreation&nbsp\;</span></span></a></strong><br />\n<br />\n<span class="text_exposed_show" style="display: inline\; font-family: Helvetica\, Arial\, sans-serif\; color: rgb(75\, 79\, 86)\; font-size: 14px\; background-color: rgb(255\, 255\, 255)\;"><strong>Balloon Artist Sponsor:</strong><br />\n<a href="http://www.backtohealthchirogrimes.com/">Back to Health Chiropractic</a><br />\n<br />\n<strong>Face Painting Sponsor:</strong><br />\n<a href="http://www.bdisigns.com">BDI SIGNS</a><br />\n<br />\n<strong>Candy Sponsor: </strong><br />\n<a href="https://www.citystatebank.com/">City State Bank</a><br />\n<a href="https://rtlequipment.com/">RTL Equipment</a><br />\n<a href="http://www.fareway.com">Fareway Food Stores</a></span>
LOCATION:Grimes Community Complex 410 SE Main Street Grimes\, IA 50111
UID:e.2636.238
SEQUENCE:3
DTSTAMP:20260424T220523Z
URL:https://business.grimesiowa.com/events/details/grimes-holiday-celebration-238
END:VEVENT

END:VCALENDAR
