BEGIN:VCALENDAR
VERSION:2.0
PRODID:-//ChamberMaster//Event Calendar 2.0//EN
METHOD:PUBLISH
X-PUBLISHED-TTL:P3D
REFRESH-INTERVAL:P3D
CALSCALE:GREGORIAN
BEGIN:VEVENT
DTSTART:20200705T030000Z
DTEND:20200705T040000Z
X-MICROSOFT-CDO-ALLDAYEVENT:FALSE
SUMMARY:Grimes "Home Base Iowa" July 4th Fireworks Show!
DESCRIPTION:In Partnership with the City of Grimes a Home Base Iowa Community\, looks forward to celebrating our nation's Independence Day on the evening of July 4th at the Grimes Sports Complex (600 S James Street).\n\n\n\n \n\n\n\n**Time is subject to change** So please keep checking for updates leading up to and day of the event!\n\n\n\n \n\n\n\nVetarans\, please visit https://www.homebaseiowa.gov/ for a list of known local benefits. \n\n\n\n \n\n\n\nSo come on down\, or find a spot with a good line of sight\, watch the fireworks show\, and make sure to practice social distancing!\n\n\n\n \n\n\n\nLet's celebrate our Nation!
X-ALT-DESC;FMTTYPE=text/html:<div data-block="true" data-editor="ejl59" data-offset-key="a1fiu-0-0" style="font-family: Helvetica\, Arial\, sans-serif\; color: rgb(28\, 30\, 33)\; font-size: 12px\; white-space: pre-wrap\;">\n<div class="_1mf _1mj" data-offset-key="a1fiu-0-0" style="position: relative\; direction: ltr\; font-family: inherit\;"><span style="color: rgb(28\, 30\, 33)\; font-family: Helvetica\, Arial\, sans-serif\; font-size: 12px\; white-space: pre-wrap\;">In Partnership with the City of Grimes</span><span data-offset-key="a1fiu-0-0" style="font-family: inherit\;"> a Home Base Iowa Community\, looks forward to celebrating our nation&#39\;s Independence Day on the evening of July 4th at the Grimes Sports Complex (600 S James Street).</span></div>\n</div>\n\n<div data-block="true" data-editor="ejl59" data-offset-key="esov6-0-0" style="font-family: Helvetica\, Arial\, sans-serif\; color: rgb(28\, 30\, 33)\; font-size: 12px\; white-space: pre-wrap\;">\n<div class="_1mf _1mj" data-offset-key="esov6-0-0" style="position: relative\; direction: ltr\; font-family: inherit\;">&nbsp\;</div>\n</div>\n\n<div data-block="true" data-editor="ejl59" data-offset-key="11eb-0-0" style="font-family: Helvetica\, Arial\, sans-serif\; color: rgb(28\, 30\, 33)\; font-size: 12px\; white-space: pre-wrap\;">\n<div class="_1mf _1mj" data-offset-key="11eb-0-0" style="position: relative\; direction: ltr\; font-family: inherit\;"><span data-offset-key="11eb-0-0" style="font-family: inherit\;">**Time is subject to change** So please keep checking for updates leading up to and day of the event!</span></div>\n</div>\n\n<div data-block="true" data-editor="ejl59" data-offset-key="8vdev-0-0" style="font-family: Helvetica\, Arial\, sans-serif\; color: rgb(28\, 30\, 33)\; font-size: 12px\; white-space: pre-wrap\;">\n<div class="_1mf _1mj" data-offset-key="8vdev-0-0" style="position: relative\; direction: ltr\; font-family: inherit\;">&nbsp\;</div>\n</div>\n\n<div data-block="true" data-editor="ejl59" data-offset-key="2529b-0-0" style="font-family: Helvetica\, Arial\, sans-serif\; color: rgb(28\, 30\, 33)\; font-size: 12px\; white-space: pre-wrap\;">\n<div class="_1mf _1mj" data-offset-key="2529b-0-0" style="position: relative\; direction: ltr\; font-family: inherit\;"><span data-offset-key="2529b-0-0" style="font-family: inherit\;">Vetarans\, please visit https://www.homebaseiowa.gov/ for a list of known local benefits. </span></div>\n</div>\n\n<div data-block="true" data-editor="ejl59" data-offset-key="ckidm-0-0" style="font-family: Helvetica\, Arial\, sans-serif\; color: rgb(28\, 30\, 33)\; font-size: 12px\; white-space: pre-wrap\;">\n<div class="_1mf _1mj" data-offset-key="ckidm-0-0" style="position: relative\; direction: ltr\; font-family: inherit\;">&nbsp\;</div>\n</div>\n\n<div data-block="true" data-editor="ejl59" data-offset-key="e5832-0-0" style="font-family: Helvetica\, Arial\, sans-serif\; color: rgb(28\, 30\, 33)\; font-size: 12px\; white-space: pre-wrap\;">\n<div class="_1mf _1mj" data-offset-key="e5832-0-0" style="position: relative\; direction: ltr\; font-family: inherit\;"><span data-offset-key="e5832-0-0" style="font-family: inherit\;">So come on down\, or find a spot with a good line of sight\, watch the fireworks show\, and make sure to practice social distancing!</span></div>\n</div>\n\n<div data-block="true" data-editor="ejl59" data-offset-key="32slp-0-0" style="font-family: Helvetica\, Arial\, sans-serif\; color: rgb(28\, 30\, 33)\; font-size: 12px\; white-space: pre-wrap\;">\n<div class="_1mf _1mj" data-offset-key="32slp-0-0" style="position: relative\; direction: ltr\; font-family: inherit\;">&nbsp\;</div>\n</div>\n\n<div data-block="true" data-editor="ejl59" data-offset-key="7ac4t-0-0" style="font-family: Helvetica\, Arial\, sans-serif\; color: rgb(28\, 30\, 33)\; font-size: 12px\; white-space: pre-wrap\;">\n<div class="_1mf _1mj" data-offset-key="7ac4t-0-0" style="position: relative\; direction: ltr\; font-family: inherit\;"><span data-offset-key="7ac4t-0-0" style="font-family: inherit\;">Let&#39\;s celebrate our Nation!</span></div>\n</div>\n
LOCATION:Grimes Sports Complex 600 S James Street Grimes\, IA 50111
UID:e.2636.1564
SEQUENCE:3
DTSTAMP:20260423T043454Z
URL:https://business.grimesiowa.com/events/details/grimes-home-base-iowa-july-4th-fireworks-show-1564
END:VEVENT

END:VCALENDAR
