BEGIN:VCALENDAR
VERSION:2.0
PRODID:-//ChamberMaster//Event Calendar 2.0//EN
METHOD:PUBLISH
X-PUBLISHED-TTL:P3D
REFRESH-INTERVAL:P3D
CALSCALE:GREGORIAN
BEGIN:VEVENT
DTSTART:20160505T220000Z
DTEND:20160506T000000Z
X-MICROSOFT-CDO-ALLDAYEVENT:FALSE
SUMMARY:Grimes Home Base Iowa Veteran's Mixer
DESCRIPTION:The Grimes Home Base Iowa Committee\, in conjunction with Shade Tree Auto and the Mustang Grill\, is hosting a mixer for Veteran's in the Grimes community. \n\n \n\nThis is a casual\, come as you are event. Representatives from the local Chamber of Commerce and the City of Grimes will be on hand with information about the Home Base Grimes initiative.  Veterans will receive a couple free drink tickets.
X-ALT-DESC;FMTTYPE=text/html:<span style="language:en-US\;"><span style="font-family:corbel\;"><span style="font-size:14.0pt\;">The Grimes Home Base Iowa Committee\, in conjunction with Shade Tree Auto and the Mustang Grill\, is hosting a mixer for Veteran&#39\;s in the Grimes community. </span></span></span><br />\n&nbsp\;<br />\n<span style="language:en-US\;"><span style="font-family:corbel\;"><span style="font-size:14.0pt\;">This is a casual\, come as you are event. Representatives from the local Chamber of Commerce and the City of Grimes will be on hand with information about the Home Base Grimes initiative.&nbsp\; Veterans will receive a couple free drink tickets.</span></span></span><br />\n&nbsp\;
LOCATION:This event will be held at the Mustang Grill\, 213 SE Main Street\, Grimes\, Iowa. www.mustanggrillgrimes.com
UID:e.2636.8
SEQUENCE:3
DTSTAMP:20260426T023624Z
URL:https://business.grimesiowa.com/events/details/grimes-home-base-iowa-veteran-s-mixer-05-05-2016-8
END:VEVENT

END:VCALENDAR
