BEGIN:VCALENDAR
VERSION:2.0
PRODID:-//ChamberMaster//Event Calendar 2.0//EN
METHOD:PUBLISH
X-PUBLISHED-TTL:P3D
REFRESH-INTERVAL:P3D
CALSCALE:GREGORIAN
BEGIN:VEVENT
DTSTART:20171012T200000Z
DTEND:20171012T230000Z
X-MICROSOFT-CDO-ALLDAYEVENT:FALSE
SUMMARY:Grimes / Johnston Economic Development Bus Tour
DESCRIPTION:Grimes Chamber & Economic Development along with the Johnston Economic Development Co. invite you to attend their annual Economic Development Bus Tour on Thursday\, October 12th.  RSVP's are required at https://johnstonandgrimestour2017.eventbrite.com.  This event provides an educational tour of both communities along with an informal networking reception at 5:00 PM
X-ALT-DESC;FMTTYPE=text/html:Grimes Chamber &amp\; Economic Development along with the Johnston Economic Development Co. invite you to attend their annual Economic Development Bus Tour on Thursday\, October 12th.&nbsp\; RSVP&#39\;s are required at <u><a href="https://johnstonandgrimestour2017.eventbrite.com">https://johnstonandgrimestour2017.eventbrite.com</a>.</u>&nbsp\; This event provides an educational tour of both communities along with an informal networking reception at 5:00 PM&nbsp\;&nbsp\;
LOCATION:3060 SE Grimes Blvd Grimes\, IA 50111
UID:e.2636.31
SEQUENCE:3
DTSTAMP:20260425T004650Z
URL:https://business.grimesiowa.com/events/details/grimes-johnston-economic-development-bus-tour-31
END:VEVENT

END:VCALENDAR
