BEGIN:VCALENDAR
VERSION:2.0
PRODID:-//ChamberMaster//Event Calendar 2.0//EN
METHOD:PUBLISH
X-PUBLISHED-TTL:P3D
REFRESH-INTERVAL:P3D
CALSCALE:GREGORIAN
BEGIN:VEVENT
DTSTART:20211030T230000Z
DTEND:20211031T010000Z
X-MICROSOFT-CDO-ALLDAYEVENT:FALSE
SUMMARY:Grimes Trick or Treat Night!
DESCRIPTION:Take your little ones out for some Trick or Treating fun! Happening in Grimes from 6pm - 8pm!
X-ALT-DESC;FMTTYPE=text/html:<div style="text-align: center\;"><strong><span style="font-size:18px\;">Take your little ones out for some Trick or Treating fun! Happening in Grimes from 6pm - 8pm!</span></strong></div>\n
LOCATION:Grimes\, IA 50111
UID:e.2636.1646
SEQUENCE:3
DTSTAMP:20260420T090700Z
URL:https://business.grimesiowa.com/events/details/grimes-trick-or-treat-night-1646
END:VEVENT

END:VCALENDAR
