BEGIN:VCALENDAR
VERSION:2.0
PRODID:-//ChamberMaster//Event Calendar 2.0//EN
METHOD:PUBLISH
X-PUBLISHED-TTL:P3D
REFRESH-INTERVAL:P3D
CALSCALE:GREGORIAN
BEGIN:VEVENT
DTSTART:20160818T223000Z
DTEND:20160819T003000Z
X-MICROSOFT-CDO-ALLDAYEVENT:FALSE
SUMMARY:Grimes Young Professionals
DESCRIPTION:Grimes Young Professionals will hold their next event on August 18th from 5:30 - 7:30 PM at the Food Depot. Everyone is welcome to attend\, so if you have someone from your business or an acquaintance that you think might be interested\, please share this invitation.\n\n\n\nFor additional information contact YP Grimes President\, Jake Feldman (BCP Live\, Inc.) at jake@bcplive.com.
X-ALT-DESC;FMTTYPE=text/html:Grimes Young Professionals will hold their next event on August 18th from 5:30 - 7:30 PM at the Food Depot. Everyone is welcome to attend\, so if you have someone from your business or an acquaintance that you think might be interested\, please share this invitation.<br />\n<br />\nFor additional information contact YP Grimes President\, Jake Feldman (BCP Live\, Inc.) at <a href="mailto:jake@bcplive.com?subject=Grimes%20Young%20Professionals">jake@bcplive.com</a>.
LOCATION:The Food Depot\, 300 SE Grimes Blvd.\, Ste. 200\, Grimes\, IA 50111. On the west side of Highway 141.
UID:e.2636.23
SEQUENCE:3
DTSTAMP:20260425T202838Z
URL:https://business.grimesiowa.com/events/details/grimes-young-professionals-08-18-2016-23
END:VEVENT

END:VCALENDAR
