BEGIN:VCALENDAR
VERSION:2.0
PRODID:-//ChamberMaster//Event Calendar 2.0//EN
METHOD:PUBLISH
X-PUBLISHED-TTL:P3D
REFRESH-INTERVAL:P3D
CALSCALE:GREGORIAN
BEGIN:VEVENT
DTSTART:20170831T220000Z
DTEND:20170831T230000Z
X-MICROSOFT-CDO-ALLDAYEVENT:FALSE
SUMMARY:Grimes YP Meet & Greet
DESCRIPTION:Meet us out at the patio! This is a chance to meet some neighbors and other young professionals in the Grimes area. Feel free to bring your families!
X-ALT-DESC;FMTTYPE=text/html:<div class="gl-contains-text">&nbsp\;</div>\n\n<div class="gl-contains-text">\n<table border="0" cellpadding="0" cellspacing="0" style="border-collapse: collapse\; table-layout: fixed\; min-width: 100%\;" width="100%">\n	<tbody>\n		<tr>\n			<td align="left" class="editor-text feature-text" style="-webkit-font-smoothing: antialiased\; color: rgb(54\, 73\, 95)\; display: block\; font-family: Arial\, Verdana\, Helvetica\, sans-serif\; font-size: 14px\; padding: 10px 20px 10px 10px\; word-wrap: break-word\;" valign="top">\n			<div>&nbsp\;</div>\n\n			<div class="text-container galileo-ap-content-editor"><span style="color: rgb(0\, 0\, 0)\; font-size: 18px\;">Meet us out at the patio! This is a chance to meet some neighbors and other young professionals in the Grimes area. Feel free to bring your families!</span></div>\n			</td>\n		</tr>\n	</tbody>\n</table>\n</div>\n
LOCATION:Mustang Grill 213 SE Main St Grimes\, IA 50111
UID:e.2636.230
SEQUENCE:3
DTSTAMP:20260425T032903Z
URL:https://business.grimesiowa.com/events/details/grimes-yp-meet-greet-230
END:VEVENT

END:VCALENDAR
