BEGIN:VCALENDAR
VERSION:2.0
PRODID:-//ChamberMaster//Event Calendar 2.0//EN
METHOD:PUBLISH
X-PUBLISHED-TTL:P3D
REFRESH-INTERVAL:P3D
CALSCALE:GREGORIAN
BEGIN:VEVENT
DTSTART:20180208T223000Z
DTEND:20180209T003000Z
X-MICROSOFT-CDO-ALLDAYEVENT:FALSE
SUMMARY:Harvest Bible Chapel Open House
DESCRIPTION:The staff will be celebrating the launch of their 3rd weekly weekend service which will be held on Saturday\, the arrival of Nick Lees\, the new Director of Discipleship & Welcome Ministries\, the installation of 3 Lay Pastors and a surprise announcement for the benefit of the Grimes Community.  Also included will be door prizes and refreshments.  Please bring ideas on how HBC and bless the Grimes Community through service projects.
X-ALT-DESC;FMTTYPE=text/html:<span style="color: rgb(63\, 63\, 77)\; font-family: open_sansregular\, arial\, sans-serif\; font-size: 14px\; background-color: rgb(255\, 255\, 255)\;">The staff will be celebrating the launch of their 3rd weekly weekend service which will be held on Saturday\, the arrival of Nick Lees\, the new Director of Discipleship &amp\; Welcome Ministries\, the installation of 3 Lay Pastors and a surprise announcement for the benefit of the Grimes Community.&nbsp\; Also included will be door prizes and refreshments.&nbsp\; Please bring ideas on how HBC and bless the Grimes Community through service projects.</span>
LOCATION:Harvest Bible Chapel 408 E 1st St Grimes\, IA 50111
UID:e.2636.1273
SEQUENCE:3
DTSTAMP:20260424T191057Z
URL:https://business.grimesiowa.com/events/details/harvest-bible-chapel-open-house-1273
END:VEVENT

END:VCALENDAR
