BEGIN:VCALENDAR
VERSION:2.0
PRODID:-//ChamberMaster//Event Calendar 2.0//EN
METHOD:PUBLISH
X-PUBLISHED-TTL:P3D
REFRESH-INTERVAL:P3D
CALSCALE:GREGORIAN
BEGIN:VEVENT
DTSTART:20161005T163000Z
DTEND:20161005T173000Z
X-MICROSOFT-CDO-ALLDAYEVENT:FALSE
SUMMARY:Healthiest State Walk "Get Fit Grimes"
DESCRIPTION:Everyone is invited to join Grimes Chamber & Economic Development and Jazzercise-Grimes as we participate in the Healthiest State Initiative "Get Fit Grimes".  All partaicipants receive a "Get Fit Grimes" bracelet\, bottled water & simple snack.  Kids receive a coloring sheet. Please RSVP HERE.
X-ALT-DESC;FMTTYPE=text/html:Everyone is invited to join Grimes Chamber &amp\; Economic Development and Jazzercise-Grimes as we participate in the Healthiest State Initiative &quot\;Get Fit Grimes&quot\;. &nbsp\;All partaicipants receive a &quot\;Get Fit Grimes&quot\; bracelet\, bottled water &amp\; simple snack. &nbsp\;Kids receive a coloring sheet. Please RSVP <u><strong><a href="mailto:jazz4k8@mchsi.com">HERE</a>.</strong></u>
LOCATION:Grimes Sports Complex 6th & James Street Grimes (In case of rain the GCC)
UID:e.2636.36
SEQUENCE:3
DTSTAMP:20260425T175547Z
URL:https://business.grimesiowa.com/events/details/healthiest-state-walk-get-fit-grimes-36
END:VEVENT

END:VCALENDAR
