BEGIN:VCALENDAR
VERSION:2.0
PRODID:-//ChamberMaster//Event Calendar 2.0//EN
METHOD:PUBLISH
X-PUBLISHED-TTL:P3D
REFRESH-INTERVAL:P3D
CALSCALE:GREGORIAN
BEGIN:VEVENT
DTSTART;VALUE=DATE:20160805
DTEND;VALUE=DATE:20160807
TRANSP:TRANSPARENT
X-MICROSOFT-CDO-ALLDAYEVENT:TRUE
SUMMARY:Highway 141 Garage Sale
DESCRIPTION:August 5th (Friday) and 6th (Saturday) marks the dates for the 14th Annual Highway 141 Garage Sale.  The sale route follows Highway 141 across beautiful west central Iowa between Des Moines on the east and Sloan on the west. The entire route is in excess of 170 miles in length. That is 170+ miles of great garage sales\, countless bargains\, and hidden treasures just waiting to be found.\n\n\n\nVisit www.141Sale.com for sale registration and listing information.
X-ALT-DESC;FMTTYPE=text/html:August 5th (Friday) and 6th (Saturday) marks the dates for the 14th Annual Highway 141 Garage Sale.&nbsp\; <font color="#2a2a2a">The sale route follows Highway 141 across beautiful west central Iowa between Des Moines on the east and Sloan on the west. The entire route is in excess of 170 miles in length. That is 170+ miles of great garage sales\, countless bargains\, and hidden treasures just waiting to be found.<br />\n<br />\nVisit <a href="http://www.141Sale.com">www.141Sale.com</a> for sale registration and listing information.</font><br />\n&nbsp\;
LOCATION:
UID:e.2636.22
SEQUENCE:3
DTSTAMP:20260425T203006Z
URL:https://business.grimesiowa.com/events/details/highway-141-garage-sale-08-05-2016-22
END:VEVENT

END:VCALENDAR
