BEGIN:VCALENDAR
VERSION:2.0
PRODID:-//ChamberMaster//Event Calendar 2.0//EN
METHOD:PUBLISH
X-PUBLISHED-TTL:P3D
REFRESH-INTERVAL:P3D
CALSCALE:GREGORIAN
BEGIN:VEVENT
DTSTART:20161204T220000Z
DTEND:20161205T000000Z
X-MICROSOFT-CDO-ALLDAYEVENT:FALSE
SUMMARY:Holiday Celebration Event
DESCRIPTION:Santa and Mrs. Claus are coming to Grimes!  Bring the kiddos to see Santa and enjoy activities including face painting\, balloon artistry\, crafts\, cookies and hot chocolate.  This annual event is fun for the whole family.
X-ALT-DESC;FMTTYPE=text/html:Santa and Mrs. Claus are coming to Grimes! &nbsp\;Bring the kiddos to see Santa and enjoy activities including face painting\, balloon artistry\, crafts\, cookies and hot chocolate. &nbsp\;This annual event is fun for the whole family.
LOCATION:Grimes Community Complex 410 SE Main St Grimes\, IA 50111
UID:e.2636.20
SEQUENCE:3
DTSTAMP:20260425T145550Z
URL:https://business.grimesiowa.com/events/details/holiday-celebration-event-12-04-2016-20
END:VEVENT

END:VCALENDAR
