BEGIN:VCALENDAR
VERSION:2.0
PRODID:-//ChamberMaster//Event Calendar 2.0//EN
METHOD:PUBLISH
X-PUBLISHED-TTL:P3D
REFRESH-INTERVAL:P3D
CALSCALE:GREGORIAN
BEGIN:VEVENT
DTSTART:20221214T173000Z
DTEND:20221214T190000Z
X-MICROSOFT-CDO-ALLDAYEVENT:FALSE
SUMMARY:Holiday Lunch & Learn!
DESCRIPTION:Join us for our Annual Holiday Lunch & Learn hosted by DC-G High School! With special performances by the Choir and Band before lunch in the auditorium!
X-ALT-DESC;FMTTYPE=text/html:<div style="text-align: center\;"><span style="font-size:18px\;">Join us for our Annual Holiday Lunch &amp\; Learn hosted by DC-G High School! With special performances by the Choir and Band before lunch in the auditorium!</span></div>\n
LOCATION:DC-G High School 2555 W 1st St. Grimes\, IA
UID:e.2636.1738
SEQUENCE:3
DTSTAMP:20260419T132706Z
URL:https://business.grimesiowa.com/events/details/holiday-lunch-learn-1738
END:VEVENT

END:VCALENDAR
