BEGIN:VCALENDAR
VERSION:2.0
PRODID:-//ChamberMaster//Event Calendar 2.0//EN
METHOD:PUBLISH
X-PUBLISHED-TTL:P3D
REFRESH-INTERVAL:P3D
CALSCALE:GREGORIAN
BEGIN:VEVENT
DTSTART:20160705T030000Z
DTEND:20160705T034500Z
X-MICROSOFT-CDO-ALLDAYEVENT:FALSE
SUMMARY:Home Base Iowa Fireworks
DESCRIPTION:Home Base Iowa is proud to support this years 4th of July Fireworks Display to celebrate the birth of our USA.  Please join us as we view this spectacular show.
X-ALT-DESC;FMTTYPE=text/html:Home Base Iowa is proud to support this years 4th of July Fireworks Display to celebrate the birth of our USA. &nbsp\;Please join us as we view this spectacular show.
LOCATION:Grimes Sports Complex 300 S James St Grimes\, IA
UID:e.2636.14
SEQUENCE:3
DTSTAMP:20260425T220415Z
URL:https://business.grimesiowa.com/events/details/home-base-iowa-fireworks-07-04-2016-14
END:VEVENT

END:VCALENDAR
