BEGIN:VCALENDAR
VERSION:2.0
PRODID:-//ChamberMaster//Event Calendar 2.0//EN
METHOD:PUBLISH
X-PUBLISHED-TTL:P3D
REFRESH-INTERVAL:P3D
CALSCALE:GREGORIAN
BEGIN:VEVENT
DTSTART:20180704T170000Z
DTEND:20180704T170000Z
X-MICROSOFT-CDO-ALLDAYEVENT:FALSE
SUMMARY:Home Base Iowa Fireworks Show
DESCRIPTION:Come and celebrate the anniversary of our nation's independence on Wednesday\, July 4th at the Home Base Grimes Independence Day Fireworks Show!\n\n\n\nAs an official Home Base Iowa community\, this event not only honors our great Country\, but also the men and women who have defended our freedoms since the nation's inception.
X-ALT-DESC;FMTTYPE=text/html:Come and celebrate the anniversary of our nation&#39\;s independence on Wednesday\, July 4th at the Home Base Grimes Independence Day Fireworks Show!<br />\n<br />\nAs an official Home Base Iowa community\, this event not only honors our great Country\, but also the men and women who have defended our freedoms since the nation&#39\;s inception.&nbsp\;<br />\n&nbsp\;
LOCATION:South Sports Complex 600 S James Street Grimes\, Iowa
UID:e.2636.242
SEQUENCE:3
DTSTAMP:20260424T121215Z
URL:https://business.grimesiowa.com/events/details/home-base-iowa-fireworks-show-242
END:VEVENT

END:VCALENDAR
