BEGIN:VCALENDAR
VERSION:2.0
PRODID:-//ChamberMaster//Event Calendar 2.0//EN
METHOD:PUBLISH
X-PUBLISHED-TTL:P3D
REFRESH-INTERVAL:P3D
CALSCALE:GREGORIAN
BEGIN:VEVENT
DTSTART:20220706T210000Z
DTEND:20220706T220000Z
X-MICROSOFT-CDO-ALLDAYEVENT:FALSE
SUMMARY:Hy-Vee Fast & Fresh/Smokey Row Ribbon Cutting!
DESCRIPTION:Join us in celebrating Hy-Vee Fast & Fresh/Smokey Row here in Grimes with a Ribbon Cutting!\n\nBe sure to bring a friend\, co-worker or neighbor to this event! Let's welcome them to Grimes!
X-ALT-DESC;FMTTYPE=text/html:<div style="text-align: center\;"><span style="font-size:18px\;"><strong>Join us in celebrating Hy-Vee Fast &amp\; Fresh/Smokey Row here in Grimes with a Ribbon Cutting!<br />\nBe sure to bring a friend\, co-worker or neighbor to this event! Let&#39\;s welcome them to Grimes!</strong></span></div>\n
LOCATION:1701 SE 37th St Grimes\, IA 50111
UID:e.2636.1711
SEQUENCE:3
DTSTAMP:20260419T210020Z
URL:https://business.grimesiowa.com/events/details/hy-vee-fast-fresh-smokey-row-ribbon-cutting-1711
END:VEVENT

END:VCALENDAR
