BEGIN:VCALENDAR
VERSION:2.0
PRODID:-//ChamberMaster//Event Calendar 2.0//EN
METHOD:PUBLISH
X-PUBLISHED-TTL:P3D
REFRESH-INTERVAL:P3D
CALSCALE:GREGORIAN
BEGIN:VEVENT
DTSTART:20180810T190000Z
DTEND:20180810T200000Z
X-MICROSOFT-CDO-ALLDAYEVENT:FALSE
SUMMARY:Insta Pro Ribbon Cutting
DESCRIPTION:INSTA-PRO INTERNATIONAL'S GRAND OPENING OF GLOBAL HEADQUARTERS WITH SPECIAL GUEST\, U.S. SENATOR JONI ERNST\n\n \n\nU.S. Senator Joni Ernst along with Grimes Mayor Scott Mikkelson\, Greater Des Moines Partnership President David Maahs and local business leaders will join the Insta-Pro Intl staff and Board of Directors to celebrate the Grand Opening of their new Global Headquarters. Insta-Pro Intl is a global agricultural machinery manufacturer in Grimes\, IA.\n\n \n\nWho: Insta-Pro International with special guest\, U.S. Senator Joni Ernst\n\nWhen: Friday\, August 10th 1:45 - 3:00 p.m. The Ribbon Cutting Ceremony will begin at 2:00 p.m.\n\nWhere: Insta-Pro International\, 2100 SE Gateway Drive\, Suite 500 Grimes\, IA\, 50111\n\n \n\n###\n\n \n\nAs the inventor of high-shear dry extrusion technology\, Insta-Pro International  is a global leader in providing chemical-free oilseed and grain processing solutions to customers since 1969. Today\, Insta-Pro provides medium and high shear extrusion technology for a variety of food and feed processing solutions to customers in over 100 countries. www.insta-pro.com
X-ALT-DESC;FMTTYPE=text/html:<div style="color: rgb(64\, 63\, 66)\; font-family: Arial\, Verdana\, Helvetica\, sans-serif\; font-size: 12px\; white-space: pre-wrap\; background-color: rgb(255\, 255\, 255)\; text-align: center\;"><span style="font-weight: bold\;">INSTA-PRO INTERNATIONAL&rsquo\;S GRAND OPENING OF GLOBAL HEADQUARTERS WITH SPECIAL GUEST\, U.S. SENATOR JONI ERNST</span></div>\n\n<div style="color: rgb(64\, 63\, 66)\; font-family: Arial\, Verdana\, Helvetica\, sans-serif\; font-size: 12px\; white-space: pre-wrap\; background-color: rgb(255\, 255\, 255)\;">&nbsp\;</div>\n\n<div style="color: rgb(64\, 63\, 66)\; font-family: Arial\, Verdana\, Helvetica\, sans-serif\; font-size: 12px\; white-space: pre-wrap\; background-color: rgb(255\, 255\, 255)\;">U.S. Senator Joni Ernst along with Grimes Mayor Scott Mikkelson\, Greater Des Moines Partnership President David Maahs and local business leaders will join the Insta-Pro Intl staff and Board of Directors to celebrate the Grand Opening of their new Global Headquarters. Insta-Pro Intl is a global agricultural machinery manufacturer in Grimes\, IA.</div>\n\n<div style="color: rgb(64\, 63\, 66)\; font-family: Arial\, Verdana\, Helvetica\, sans-serif\; font-size: 12px\; white-space: pre-wrap\; background-color: rgb(255\, 255\, 255)\;">&nbsp\;</div>\n\n<div style="color: rgb(64\, 63\, 66)\; font-family: Arial\, Verdana\, Helvetica\, sans-serif\; font-size: 12px\; white-space: pre-wrap\; background-color: rgb(255\, 255\, 255)\;"><span style="font-weight: bold\;">Who: </span>Insta-Pro International with special guest\, U.S. Senator Joni Ernst</div>\n\n<div style="color: rgb(64\, 63\, 66)\; font-family: Arial\, Verdana\, Helvetica\, sans-serif\; font-size: 12px\; white-space: pre-wrap\; background-color: rgb(255\, 255\, 255)\;"><span style="font-weight: bold\;">When: </span>Friday\, August 10th 1:45 - 3:00 p.m. The Ribbon Cutting Ceremony will begin at 2:00 p.m.</div>\n\n<div style="color: rgb(64\, 63\, 66)\; font-family: Arial\, Verdana\, Helvetica\, sans-serif\; font-size: 12px\; white-space: pre-wrap\; background-color: rgb(255\, 255\, 255)\;"><span style="font-weight: bold\;">Where: </span>Insta-Pro International\, 2100 SE Gateway Drive\, Suite 500 Grimes\, IA\, 50111</div>\n\n<div style="color: rgb(64\, 63\, 66)\; font-family: Arial\, Verdana\, Helvetica\, sans-serif\; font-size: 12px\; white-space: pre-wrap\; background-color: rgb(255\, 255\, 255)\;">&nbsp\;</div>\n\n<div style="color: rgb(64\, 63\, 66)\; font-family: Arial\, Verdana\, Helvetica\, sans-serif\; font-size: 12px\; white-space: pre-wrap\; background-color: rgb(255\, 255\, 255)\; text-align: center\;">###</div>\n\n<div style="color: rgb(64\, 63\, 66)\; font-family: Arial\, Verdana\, Helvetica\, sans-serif\; font-size: 12px\; white-space: pre-wrap\; background-color: rgb(255\, 255\, 255)\;">&nbsp\;</div>\n\n<div style="color: rgb(64\, 63\, 66)\; font-family: Arial\, Verdana\, Helvetica\, sans-serif\; font-size: 12px\; white-space: pre-wrap\; background-color: rgb(255\, 255\, 255)\;">As the inventor of high-shear dry extrusion technology\, Insta-Pro International&reg\; is a global leader in providing chemical-free oilseed and grain processing solutions to customers since 1969. Today\, Insta-Pro provides medium and high shear extrusion technology for a variety of food and feed processing solutions to customers in over 100 countries. www.insta-pro.com</div>\n
LOCATION:2100 SE Gateway Dr Suite 500 Grimes\, IA 50111
UID:e.2636.1302
SEQUENCE:3
DTSTAMP:20260424T103853Z
URL:https://business.grimesiowa.com/events/details/insta-pro-ribbon-cutting-1302
END:VEVENT

END:VCALENDAR
