BEGIN:VCALENDAR
VERSION:2.0
PRODID:-//ChamberMaster//Event Calendar 2.0//EN
METHOD:PUBLISH
X-PUBLISHED-TTL:P3D
REFRESH-INTERVAL:P3D
CALSCALE:GREGORIAN
BEGIN:VEVENT
DTSTART:20221116T173000Z
DTEND:20221116T190000Z
X-MICROSOFT-CDO-ALLDAYEVENT:FALSE
SUMMARY:Joint Legislative Luncheon
DESCRIPTION:The Grimes\, Johnston\, Ankeny\, and Urbandale Chamber of Commerce invites you to attend our Joint Legislative Luncheon to hear form your State Representatives\, State Senators and County Supervisors ahead of the 2022 Session.\n\n\n\nThis event is open to all participating Chamber Members and their staff.\n\n\n\nRegistration will close Friday\, November 11th at 9am or when we hit capacity.\n\n\n\nLunch: Balsamic Chicken\, Chef's Salad\, Veggies\, Bread & Butter\, Dessert\, Iced Tea/Coffee.\n\n(If there are any dietary restrictions\, please let us know beforehand)
X-ALT-DESC;FMTTYPE=text/html:<div style="text-align: center\;"><span style="font-size:20px\;">The Grimes\, Johnston\, Ankeny\, and Urbandale Chamber of Commerce invites you to attend our Joint Legislative Luncheon to hear form your State Representatives\, State Senators and County Supervisors ahead of the 2022 Session.<br />\n<br />\nThis event is open to all participating Chamber Members and their staff.<br />\n<br />\nRegistration will close Friday\, November 11th at 9am&nbsp\;or when we hit capacity.<br />\n<br />\nLunch: Balsamic Chicken\, Chef&#39\;s Salad\, Veggies\, Bread &amp\; Butter\, Dessert\, Iced Tea/Coffee.<br />\n(If there are any dietary restrictions\, please let us know beforehand)</span></div>\n
LOCATION:Hilton Garden Inn Banquet Hall 8600 Northpark Dr. Johnston\, IA 50131
UID:e.2636.1731
SEQUENCE:3
DTSTAMP:20260419T162652Z
URL:https://business.grimesiowa.com/events/details/joint-legislative-luncheon-1731
END:VEVENT

END:VCALENDAR
