BEGIN:VCALENDAR
VERSION:2.0
PRODID:-//ChamberMaster//Event Calendar 2.0//EN
METHOD:PUBLISH
X-PUBLISHED-TTL:P3D
REFRESH-INTERVAL:P3D
CALSCALE:GREGORIAN
BEGIN:VEVENT
DTSTART:20210714T163000Z
DTEND:20210714T180000Z
X-MICROSOFT-CDO-ALLDAYEVENT:FALSE
SUMMARY:July Lunch & Learn
DESCRIPTION:Each month Grimes Chamber & Economic Development gives its members the opportunity to meet for networking\, lunch and to learn about items of interest regarding Grimes and the Metro area. You are invited to join us on the second Wednesday of the month to attend these events.\n\n\n\nThis month we will be hearing from Ryan Glick with Pixelayn Innovations!\n\n\n\nCatered by Godfather's Pizza!
X-ALT-DESC;FMTTYPE=text/html:<div style="text-align: center\;"><span style="font-size:18px\;"><span style="color: rgb(0\, 0\, 0)\; font-family: arial\; text-align: center\;">Each month Grimes Chamber &amp\; Economic Development gives its members the opportunity to meet for networking\, lunch and to learn about items of interest regarding Grimes and the Metro area. You are invited to join us on the second Wednesday of the month to attend these events.</span><br style="box-sizing: border-box\; color: rgb(0\, 0\, 0)\; font-family: arial\; font-size: 16px\; text-align: center\;" />\n<br style="box-sizing: border-box\; color: rgb(0\, 0\, 0)\; font-family: arial\; font-size: 16px\; text-align: center\;" />\n<span style="box-sizing: border-box\; font-weight: bolder\; color: rgb(0\, 0\, 0)\; font-family: arial\; text-align: center\;">This month we will be hearing from Ryan Glick with Pixelayn Innovations!</span><br style="box-sizing: border-box\; color: rgb(0\, 0\, 0)\; font-family: arial\; font-size: 16px\; text-align: center\;" />\n<br style="box-sizing: border-box\; color: rgb(0\, 0\, 0)\; font-family: arial\; font-size: 16px\; text-align: center\;" />\n<span style="color: rgb(0\, 0\, 0)\; font-family: arial\; text-align: center\;">Catered by Godfather&#39\;s Pizza!</span></span></div>\n
LOCATION:Grimes Community Complex 410 SE Main St. Grimes\, IA 50111 Room 402
UID:e.2636.1626
SEQUENCE:3
DTSTAMP:20260420T162239Z
URL:https://business.grimesiowa.com/events/details/july-lunch-learn-1626
END:VEVENT

END:VCALENDAR
