BEGIN:VCALENDAR
VERSION:2.0
PRODID:-//ChamberMaster//Event Calendar 2.0//EN
METHOD:PUBLISH
X-PUBLISHED-TTL:P3D
REFRESH-INTERVAL:P3D
CALSCALE:GREGORIAN
BEGIN:VEVENT
DTSTART:20220713T163000Z
DTEND:20220713T180000Z
X-MICROSOFT-CDO-ALLDAYEVENT:FALSE
SUMMARY:July Lunch & Learn!
DESCRIPTION:Each month Grimes Chamber & Economic Development gives its members the opportunity to meet for networking\, lunch and to learn about items of interest regarding Grimes and the Metro area. You are invited to join us on the second Wednesday of the month to attend these events.\n\n\n\nToday we will be hearing from our sponsors\, DART!\n\n\n\nCatering by: Godfather's Pizza!
X-ALT-DESC;FMTTYPE=text/html:<div style="text-align: center\;"><span style="text-align: center\; color: rgb(0\, 0\, 0)\; font-family: arial\; font-size: 18px\;">Each month Grimes Chamber &amp\; Economic Development gives its members the opportunity to meet for networking\, lunch and to learn about items of interest regarding Grimes and the Metro area. You are invited to join us on the second Wednesday of the month to attend these events.<br />\n<br />\nToday we will be hearing from our sponsors\, DART!</span><br style="text-align: center\; color: rgb(0\, 0\, 0)\; font-family: arial\; font-size: 18px\;" />\n<br style="text-align: center\;" />\n<span style="text-align: center\; color: rgb(0\, 0\, 0)\; font-family: arial\; font-size: 22px\;">Catering by: Godfather&#39\;s Pizza!</span></div>\n
LOCATION:Grimes Community Complex Room 402
UID:e.2636.1708
SEQUENCE:3
DTSTAMP:20260419T205523Z
URL:https://business.grimesiowa.com/events/details/july-lunch-learn-1708
END:VEVENT

END:VCALENDAR
