BEGIN:VCALENDAR
VERSION:2.0
PRODID:-//ChamberMaster//Event Calendar 2.0//EN
METHOD:PUBLISH
X-PUBLISHED-TTL:P3D
REFRESH-INTERVAL:P3D
CALSCALE:GREGORIAN
BEGIN:VEVENT
DTSTART:20180919T230000Z
DTEND:20180920T000000Z
X-MICROSOFT-CDO-ALLDAYEVENT:FALSE
SUMMARY:Kennybrook Estates South Park Ribbon Cutting
DESCRIPTION:Please join us for a Ribbon Cutting Ceremony at Kennybrook Park. \n\nWe are so excited to have this open up to the public for our youth to enjoy!
X-ALT-DESC;FMTTYPE=text/html:<span style="color: rgb(29\, 33\, 41)\; font-family: Helvetica\, Arial\, sans-serif\; font-size: 14px\;">Please join us for a Ribbon Cutting Ceremony at Kennybrook Park.&nbsp\;</span><br style="color: rgb(29\, 33\, 41)\; font-family: Helvetica\, Arial\, sans-serif\; font-size: 14px\;" />\n<span style="color: rgb(29\, 33\, 41)\; font-family: Helvetica\, Arial\, sans-serif\; font-size: 14px\;">We are so excited to have this open up to the public for our youth to enjoy!</span>
LOCATION:Kennybrook South Park
UID:e.2636.1321
SEQUENCE:3
DTSTAMP:20260424T104237Z
URL:https://business.grimesiowa.com/events/details/kennybrook-estates-south-park-ribbon-cutting-1321
END:VEVENT

END:VCALENDAR
