BEGIN:VCALENDAR
VERSION:2.0
PRODID:-//ChamberMaster//Event Calendar 2.0//EN
METHOD:PUBLISH
X-PUBLISHED-TTL:P3D
REFRESH-INTERVAL:P3D
CALSCALE:GREGORIAN
BEGIN:VEVENT
DTSTART:20221003T183000Z
DTEND:20221003T193000Z
X-MICROSOFT-CDO-ALLDAYEVENT:FALSE
SUMMARY:Kennybrook Park Improvements Ribbon Cutting!
DESCRIPTION:Join us in celebrating Kennybrook Park's newest improvements with a Ribbon Cutting!
X-ALT-DESC;FMTTYPE=text/html:Join us in celebrating Kennybrook Park&#39\;s newest improvements with a Ribbon Cutting!
LOCATION:Kennybrook Park 800 SW Brookside Dr. Grimes\, IA
UID:e.2636.1722
SEQUENCE:3
DTSTAMP:20260419T163059Z
URL:https://business.grimesiowa.com/events/details/kennybrook-park-improvements-ribbon-cutting-1722
END:VEVENT

END:VCALENDAR
