BEGIN:VCALENDAR
VERSION:2.0
PRODID:-//ChamberMaster//Event Calendar 2.0//EN
METHOD:PUBLISH
X-PUBLISHED-TTL:P3D
REFRESH-INTERVAL:P3D
CALSCALE:GREGORIAN
BEGIN:VEVENT
DTSTART:20180817T210000Z
DTEND:20180817T230000Z
X-MICROSOFT-CDO-ALLDAYEVENT:FALSE
SUMMARY:Letsch Law Firm 5 Year Anniversary Party!
DESCRIPTION:Join us in celebrating Letsch Law Firm's 5 year Anniversary with a party at their office in Polk City.  Food\, fun\, beverages\, door prizes.  On the Square next to Pappa's Pizza.
X-ALT-DESC;FMTTYPE=text/html:<span style="font-family:calibri\,sans-serif\;"><span style="font-size:11.0pt\;">Join us in celebrating Letsch Law Firm&#39\;s 5 year Anniversary with a party at their office in Polk City.&nbsp\; Food\, fun\, beverages\, door prizes.&nbsp\; On the Square next to Pappa&#39\;s Pizza.</span></span>
LOCATION:212 Van Dorn St. Suite D Polk City\, IA 50226
UID:e.2636.1303
SEQUENCE:3
DTSTAMP:20260424T114500Z
URL:https://business.grimesiowa.com/events/details/letsch-law-firm-5-year-anniversary-party-1303
END:VEVENT

END:VCALENDAR
