BEGIN:VCALENDAR
VERSION:2.0
PRODID:-//ChamberMaster//Event Calendar 2.0//EN
METHOD:PUBLISH
X-PUBLISHED-TTL:P3D
REFRESH-INTERVAL:P3D
CALSCALE:GREGORIAN
BEGIN:VEVENT
DTSTART:20210210T180000Z
DTEND:20210210T190000Z
X-MICROSOFT-CDO-ALLDAYEVENT:FALSE
SUMMARY:Lunch & Learn - February
DESCRIPTION:Each month Grimes Chamber & Economic Development gives its members the opportunity to meet for networking\, lunch and to learn about items of interest regarding Grimes and the Metro area. You are invited to join us on the second Wednesday of the month to attend these events.\n\n\n\nToday we will hear from Kim Jacobsen with Timmins\, Jacobsen & Strawhacker\, LLP. Join us for a Q&A and verbal presentation on all things taxes!
X-ALT-DESC;FMTTYPE=text/html:Each month Grimes Chamber &amp\; Economic Development gives its members the opportunity to meet for networking\, lunch and to learn about items of interest regarding Grimes and the Metro area. You are invited to join us on the second Wednesday of the month to attend these events.<br />\n<br />\nToday we will hear from Kim Jacobsen with Timmins\, Jacobsen &amp\; Strawhacker\, LLP. Join us for a Q&amp\;A and verbal presentation on all things taxes!
LOCATION:ZOOM
UID:e.2636.1591
SEQUENCE:3
DTSTAMP:20260422T203408Z
URL:https://business.grimesiowa.com/events/details/lunch-learn-february-1591
END:VEVENT

END:VCALENDAR
