BEGIN:VCALENDAR
VERSION:2.0
PRODID:-//ChamberMaster//Event Calendar 2.0//EN
METHOD:PUBLISH
X-PUBLISHED-TTL:P3D
REFRESH-INTERVAL:P3D
CALSCALE:GREGORIAN
BEGIN:VEVENT
DTSTART:20170910T173000Z
DTEND:20170910T173000Z
X-MICROSOFT-CDO-ALLDAYEVENT:FALSE
SUMMARY:Lutheran Church of Hope\, Johnston-Grimes Ground Breaking Ceremony (GRIMES)
DESCRIPTION:GRIMES\, IA.  The community of Grimes and members of Grimes Chamber & Economic Development will join with the congregation of Lutheran Church of Hope Johnston-Grimes for their ground-breaking ceremony. The ceremony will take place on Sunday\, September 10th beginning at 12:30 PM.  The location of this new church is in the Heritage at Grimes sub-division located on Beaverbrook Blvd.
X-ALT-DESC;FMTTYPE=text/html:<strong>GRIMES\, IA.</strong>&mdash\; The community of Grimes and members of Grimes Chamber &amp\; Economic Development will join with the congregation of Lutheran Church of Hope Johnston-Grimes for their ground-breaking ceremony.&nbsp\;The ceremony will take place on Sunday\, September 10th&nbsp\;beginning at 12:30 PM. &nbsp\;The location of this new church is in the Heritage at Grimes sub-division located on Beaverbrook Blvd.
LOCATION:The ceremony will take place in the new Heritage at Grimes sub-division 1335 NW Beaverbrooke Blvd.
UID:e.2636.210
SEQUENCE:3
DTSTAMP:20260425T021329Z
URL:https://business.grimesiowa.com/events/details/lutheran-church-of-hope-johnston-grimes-ground-breaking-ceremony-grimes-210
END:VEVENT

END:VCALENDAR
