BEGIN:VCALENDAR
VERSION:2.0
PRODID:-//ChamberMaster//Event Calendar 2.0//EN
METHOD:PUBLISH
X-PUBLISHED-TTL:P3D
REFRESH-INTERVAL:P3D
CALSCALE:GREGORIAN
BEGIN:VEVENT
DTSTART:20210310T180000Z
DTEND:20210310T190000Z
X-MICROSOFT-CDO-ALLDAYEVENT:FALSE
SUMMARY:March Lunch & Learn
DESCRIPTION:Each month Grimes Chamber & Economic Development gives its members the opportunity to meet for networking\, lunch and to learn about items of interest regarding Grimes and the Metro area. You are invited to join us on the second Wednesday of the month to attend these events.\n\n \nToday we will be hearing from Marji Alaniz with FarmHer!\n\n\n\nStoryteller\, entrepreneur\, wife and mom on a mission to explore\, expand\, and living her best life.\n\nWomen have always been an important but mostly undocumented aspect of farming. In recent years\, women are rising to the forefront of agriculture in so many ways. As owner/operators\, land owners\, workers\, mentors and so on. As a woman who worked in the agriculture field for the past 11 years\, Marji\, the founder of FarmHer\, feels our world is long overdue to start bringing images of women in agriculture into the mainstream. It is time to start documenting the amazingly important role that women play in our agriculture system\; providing food\, giving to their communities and sharing with others. Follow the FarmHer journey as women in agriculture are documented through photography\, television\, events\, and community
X-ALT-DESC;FMTTYPE=text/html:<span style="color:#000000\;"><span style="font-size:14px\;"><span style="font-family:arial\;">Each month Grimes Chamber &amp\; Economic Development gives its members the opportunity to meet for networking\, lunch and to learn about items of interest regarding Grimes and the Metro area. You are invited to join us on the second Wednesday of the month to attend these events.</span></span></span><br />\n&nbsp\;\n<div style="text-align: center\;"><span style="color:#000000\;"><span style="font-size:14px\;"><span style="font-family:arial\;"><span style="font-size:16px\;">Today we will be hearing from <strong>Marji Alaniz with FarmHer!</strong></span><br />\n<br />\n<span style="font-size:16px\;">Storyteller\, entrepreneur\, wife and mom on a mission to explore\, expand\, and living her best life.</span></span></span><br />\n<span style="font-size:16px\;"><span style="font-family:arial\;">Women have always been an important but mostly undocumented aspect of farming. In recent years\, women are rising to the forefront of agriculture in so many ways. As owner/operators\, land owners\, workers\, mentors and so on. As a woman who worked in the agriculture field for the past 11 years\, Marji\, the founder of FarmHer\, feels our world is long overdue to start bringing images of women in agriculture into the mainstream. It is time to start documenting the amazingly important role that women play in our agriculture system\; providing food\, giving to their communities and sharing with others. Follow the FarmHer journey as women in agriculture are documented through photography\, television\, events\, and community</span></span></span></div>\n
LOCATION:via ZOOM
UID:e.2636.1596
SEQUENCE:3
DTSTAMP:20260419T144813Z
URL:https://business.grimesiowa.com/events/details/march-lunch-learn-1596
END:VEVENT

END:VCALENDAR
