BEGIN:VCALENDAR
VERSION:2.0
PRODID:-//ChamberMaster//Event Calendar 2.0//EN
METHOD:PUBLISH
X-PUBLISHED-TTL:P3D
REFRESH-INTERVAL:P3D
CALSCALE:GREGORIAN
BEGIN:VEVENT
DTSTART:20160511T163000Z
DTEND:20160511T180000Z
X-MICROSOFT-CDO-ALLDAYEVENT:FALSE
SUMMARY:May Lunch & Learn
DESCRIPTION:GCED is excited to announce the integration of this new membership piece of our website. Brenda Lundeen\, Project Manager at Chamber Master\, will be sharing the ease of navigating through this portal and some of the new features that come with this update.\n\n \n\nPlease join us as we welcome Brenda Lundeen our May 11th Lunch & Learn speaker. Brenda has over twenty years of experience providing training and consulting services for computer users at all levels.    As a product manager at MicroNet\, she's passionate about listening to customer needs and concerns in order to create a product that will help associations grow and connect with their members.  Internally\, Brenda works with the development\, sales\, and customer service teams to build products and features that are easy to use and provide value by increasing efficiency or offering enhanced benefits.
X-ALT-DESC;FMTTYPE=text/html:<span style="font-size:12px\;"><span style="font-family:verdana\,sans-serif\;">GCED is excited to announce the integration of this new membership piece of our website. Brenda Lundeen\, Project Manager at Chamber Master\, will be sharing the ease of navigating through this portal and some of the new features that come with this update.</span><br />\n&nbsp\;<br />\n<span style="font-family:verdana\,sans-serif\;">Please join us as we welcome Brenda Lundeen our May 11th Lunch &amp\; Learn speaker.&nbsp\;Brenda has over twenty years of experience providing training and consulting services for computer users at all levels.&nbsp\;&nbsp\;&nbsp\; As a product manager at MicroNet\, she&#39\;s passionate about listening to customer needs and concerns in order to create a product that will help associations grow and connect with their members.&nbsp\; Internally\, Brenda works with the development\, sales\, and customer service teams to build products and features that are easy to use and provide value by increasing efficiency or offering enhanced benefits. &nbsp\; &nbsp\; &nbsp\;</span></span>
LOCATION:Grimes Community Complex 410 SE Main Street Grimes\, IA 50111
UID:e.2636.6
SEQUENCE:3
DTSTAMP:20260426T022451Z
URL:https://business.grimesiowa.com/events/details/may-lunch-learn-05-11-2016-6
END:VEVENT

END:VCALENDAR
