BEGIN:VCALENDAR
VERSION:2.0
PRODID:-//ChamberMaster//Event Calendar 2.0//EN
METHOD:PUBLISH
X-PUBLISHED-TTL:P3D
REFRESH-INTERVAL:P3D
CALSCALE:GREGORIAN
BEGIN:VEVENT
DTSTART:20221006T210000Z
DTEND:20221006T220000Z
X-MICROSOFT-CDO-ALLDAYEVENT:FALSE
SUMMARY:McDivot's Ribbon Cutting!
DESCRIPTION:Join us in celebrating the new McDivot's Indoor Sports Pub with a Ribbon Cutting!\n\nLet's welcome our new member with open arms and a great swing! \n\n\n\nBring a friend\, co-worker or neighbor to this event! Free to attend and let's par-tee!
X-ALT-DESC;FMTTYPE=text/html:<div style="text-align: center\;"><span style="font-size:22px\;"><span style="color: rgb(0\, 0\, 0)\; font-family: Arial\, Verdana\, Helvetica\, sans-serif\; text-align: center\;">Join us in celebrating the new McDivot&#39\;s Indoor Sports Pub with a Ribbon Cutting!<br />\nLet&#39\;s welcome our new member with open arms and a great swing!&nbsp\;<br />\n<br />\nBring a friend\, co-worker or neighbor to this event! Free to attend and let&#39\;s par-tee!</span></span></div>\n
LOCATION:3390 SE Crossroads Dr. Ste 100 Grimes\, IA 50111
UID:e.2636.1724
SEQUENCE:3
DTSTAMP:20260419T162751Z
URL:https://business.grimesiowa.com/events/details/mcdivot-s-ribbon-cutting-1724
END:VEVENT

END:VCALENDAR
