BEGIN:VCALENDAR
VERSION:2.0
PRODID:-//ChamberMaster//Event Calendar 2.0//EN
METHOD:PUBLISH
X-PUBLISHED-TTL:P3D
REFRESH-INTERVAL:P3D
CALSCALE:GREGORIAN
BEGIN:VEVENT
DTSTART:20200922T133000Z
DTEND:20200922T153000Z
X-MICROSOFT-CDO-ALLDAYEVENT:FALSE
SUMMARY:Metro-Wide Mentoring Morning for Women
DESCRIPTION:Looking for a MENTOR?  You could find one or more at Mentoring For Women.\n\n\n\nJoin the Grimes\, Johnston\, and Urbandale Chamber as we come together for networking\, coaching\, and mentoring sessions from the region's most influential business leaders.\n\nThese events are designed for women to find inspiration and guidance on their careers. All events are open to anyone in the Greater Des Moines (DSM) community who would like to network and further their professional development.\n\n\n\nOur mentors include:\n\n\n	Jolene Goodman\, Iowa Living Magazine\n	Marji Guyler-Alaniz\, FarmHer Inc.\n	Erin Huiatt\, Des Moines Parent\n	Claudia Schabel\, Schabel Solutions\n	Mary Ann Tayloe\, Raymond James Financial Services\n	Sara Velandar\, Country Financial - Sara Velander\n\n\n\n\n\nPlease register Here!
X-ALT-DESC;FMTTYPE=text/html:<p style="box-sizing: border-box\; margin: 0px 0px 1rem\; padding: 0px 0px 1em\; border: 0px\; outline: 0px\; font-size: 14px\; text-size-adjust: 100%\; vertical-align: baseline\; background: rgb(255\, 255\, 255)\; color: rgb(68\, 68\, 68)\; font-family: Arial\, Helvetica\, sans-serif\;"><span style="box-sizing: border-box\; margin: 0px\; padding: 0px\; border: 0px\; outline: 0px\; text-size-adjust: 100%\; vertical-align: baseline\; background: transparent\;"><span style="box-sizing: border-box\; margin: 0px\; padding: 0px\; border: 0px\; outline: 0px\; text-size-adjust: 100%\; vertical-align: baseline\; background: transparent\; font-family: arial\;">Looking for a MENTOR?&nbsp\; You could find one or more at Mentoring For Women.<br style="box-sizing: border-box\;" />\n<br style="box-sizing: border-box\;" />\nJoin the Grimes\, Johnston\, and Urbandale Chamber as we come together for networking\, coaching\, and mentoring sessions from the region&#39\;s most influential business leaders.</span></span></p>\n\n<p style="box-sizing: border-box\; margin: 0px 0px 1rem\; padding: 0px 0px 1em\; border: 0px\; outline: 0px\; font-size: 14px\; text-size-adjust: 100%\; vertical-align: baseline\; background: rgb(255\, 255\, 255)\; color: rgb(68\, 68\, 68)\; font-family: Arial\, Helvetica\, sans-serif\;"><span style="box-sizing: border-box\; margin: 0px\; padding: 0px\; border: 0px\; outline: 0px\; text-size-adjust: 100%\; vertical-align: baseline\; background: transparent\;"><span style="box-sizing: border-box\; margin: 0px\; padding: 0px\; border: 0px\; outline: 0px\; text-size-adjust: 100%\; vertical-align: baseline\; background: transparent\; font-family: arial\;">These events are designed for women to find inspiration and guidance on their careers. All events are open to anyone in the Greater Des Moines (DSM) community who would like to network and further their professional development.<br style="box-sizing: border-box\;" />\n<br style="box-sizing: border-box\;" />\nOur mentors include:</span></span></p>\n\n<ul style="box-sizing: border-box\; margin: 0px 0px 1rem\; padding: 0px 0px 1em 1em\; border: 0px\; outline: 0px\; font-size: 14px\; text-size-adjust: 100%\; vertical-align: baseline\; background: rgb(255\, 255\, 255)\; list-style-position: initial\; list-style-image: initial\; line-height: 26px\; color: rgb(68\, 68\, 68)\; font-family: Arial\, Helvetica\, sans-serif\;">\n	<li style="box-sizing: border-box\; margin: 0px\; padding: 0px\; border: 0px\; outline: 0px\; text-size-adjust: 100%\; vertical-align: baseline\; background: transparent\;"><span style="box-sizing: border-box\; margin: 0px\; padding: 0px\; border: 0px\; outline: 0px\; text-size-adjust: 100%\; vertical-align: baseline\; background: transparent\;"><span style="box-sizing: border-box\; margin: 0px\; padding: 0px\; border: 0px\; outline: 0px\; text-size-adjust: 100%\; vertical-align: baseline\; background: transparent\; font-family: arial\;">Jolene Goodman\, Iowa Living Magazine</span></span></li>\n	<li style="box-sizing: border-box\; margin: 0px\; padding: 0px\; border: 0px\; outline: 0px\; text-size-adjust: 100%\; vertical-align: baseline\; background: transparent\;"><span style="box-sizing: border-box\; margin: 0px\; padding: 0px\; border: 0px\; outline: 0px\; text-size-adjust: 100%\; vertical-align: baseline\; background: transparent\;"><span style="box-sizing: border-box\; margin: 0px\; padding: 0px\; border: 0px\; outline: 0px\; text-size-adjust: 100%\; vertical-align: baseline\; background: transparent\; font-family: arial\;">Marji Guyler-Alaniz\, FarmHer Inc.</span></span></li>\n	<li style="box-sizing: border-box\; margin: 0px\; padding: 0px\; border: 0px\; outline: 0px\; text-size-adjust: 100%\; vertical-align: baseline\; background: transparent\;"><span style="box-sizing: border-box\; margin: 0px\; padding: 0px\; border: 0px\; outline: 0px\; text-size-adjust: 100%\; vertical-align: baseline\; background: transparent\;"><span style="box-sizing: border-box\; margin: 0px\; padding: 0px\; border: 0px\; outline: 0px\; text-size-adjust: 100%\; vertical-align: baseline\; background: transparent\; font-family: arial\;">Erin Huiatt\, Des Moines Parent</span></span></li>\n	<li style="box-sizing: border-box\; margin: 0px\; padding: 0px\; border: 0px\; outline: 0px\; text-size-adjust: 100%\; vertical-align: baseline\; background: transparent\;"><span style="box-sizing: border-box\; margin: 0px\; padding: 0px\; border: 0px\; outline: 0px\; text-size-adjust: 100%\; vertical-align: baseline\; background: transparent\;"><span style="box-sizing: border-box\; margin: 0px\; padding: 0px\; border: 0px\; outline: 0px\; text-size-adjust: 100%\; vertical-align: baseline\; background: transparent\; font-family: arial\;">Claudia Schabel\, Schabel Solutions</span></span></li>\n	<li style="box-sizing: border-box\; margin: 0px\; padding: 0px\; border: 0px\; outline: 0px\; text-size-adjust: 100%\; vertical-align: baseline\; background: transparent\;"><span style="box-sizing: border-box\; margin: 0px\; padding: 0px\; border: 0px\; outline: 0px\; text-size-adjust: 100%\; vertical-align: baseline\; background: transparent\;"><span style="box-sizing: border-box\; margin: 0px\; padding: 0px\; border: 0px\; outline: 0px\; text-size-adjust: 100%\; vertical-align: baseline\; background: transparent\; font-family: arial\;">Mary Ann Tayloe\, Raymond James Financial Services</span></span></li>\n	<li style="box-sizing: border-box\; margin: 0px\; padding: 0px\; border: 0px\; outline: 0px\; text-size-adjust: 100%\; vertical-align: baseline\; background: transparent\;"><span style="box-sizing: border-box\; margin: 0px\; padding: 0px\; border: 0px\; outline: 0px\; text-size-adjust: 100%\; vertical-align: baseline\; background: transparent\;"><span style="box-sizing: border-box\; margin: 0px\; padding: 0px\; border: 0px\; outline: 0px\; text-size-adjust: 100%\; vertical-align: baseline\; background: transparent\; font-family: arial\;">Sara Velandar\, Country Financial - Sara Velander</span></span></li>\n</ul>\n<br />\n<br />\n<span style="color: rgb(68\, 68\, 68)\; font-family: Arial\, Helvetica\, sans-serif\; font-size: 14px\; background-color: rgb(255\, 255\, 255)\;">Please register <a href="http://businesses.uniquelyurbandale.com/events/details/metro-wide-mentoring-morning-for-women-presented-by-university-of-iowa-health-care-10896?calendarMonth=2020-09-01">Here</a>!</span>
LOCATION:Stoney Creek Hotel & Conference Center 5291 Stoney Creek Ct Johnston\, IA 50131
UID:e.2636.1577
SEQUENCE:3
DTSTAMP:20260423T020027Z
URL:https://business.grimesiowa.com/events/details/metro-wide-mentoring-morning-for-women-1577
END:VEVENT

END:VCALENDAR
