BEGIN:VCALENDAR
VERSION:2.0
PRODID:-//ChamberMaster//Event Calendar 2.0//EN
METHOD:PUBLISH
X-PUBLISHED-TTL:P3D
REFRESH-INTERVAL:P3D
CALSCALE:GREGORIAN
BEGIN:VEVENT
DTSTART:20211202T160000Z
DTEND:20211202T170000Z
X-MICROSOFT-CDO-ALLDAYEVENT:FALSE
SUMMARY:Midwest Heritage Bank Groundbreaking!
DESCRIPTION:Help us and Midwest Heritage Bank celebrate their newest location in Grimes with a Groundbreaking ceremony! Let's welcome them to Grimes!
X-ALT-DESC;FMTTYPE=text/html:<div style="text-align: center\;"><span style="font-size:18px\;">Help us and Midwest Heritage Bank celebrate their newest location in Grimes with a Groundbreaking ceremony! Let&#39\;s welcome them to Grimes!</span></div>\n
LOCATION:NE Gateway Dr Grimes\, IA 50111
UID:e.2636.1664
SEQUENCE:3
DTSTAMP:20260420T061935Z
URL:https://business.grimesiowa.com/events/details/midwest-heritage-bank-groundbreaking-1664
END:VEVENT

END:VCALENDAR
