BEGIN:VCALENDAR
VERSION:2.0
PRODID:-//ChamberMaster//Event Calendar 2.0//EN
METHOD:PUBLISH
X-PUBLISHED-TTL:P3D
REFRESH-INTERVAL:P3D
CALSCALE:GREGORIAN
BEGIN:VEVENT
DTSTART;VALUE=DATE:20200101
DTEND;VALUE=DATE:20200102
TRANSP:TRANSPARENT
X-MICROSOFT-CDO-ALLDAYEVENT:TRUE
SUMMARY:New Years Day!
DESCRIPTION:Our office will be closed for the Holiday! Start the year off right by joining Grimes Chamber & Economic Development!
X-ALT-DESC;FMTTYPE=text/html:Our office will be closed for the Holiday! Start the year off right by joining Grimes Chamber &amp\; Economic Development!
LOCATION:
UID:e.2636.1459
SEQUENCE:3
DTSTAMP:20260423T143833Z
URL:https://business.grimesiowa.com/events/details/new-years-day-1459
END:VEVENT

END:VCALENDAR
