BEGIN:VCALENDAR
VERSION:2.0
PRODID:-//ChamberMaster//Event Calendar 2.0//EN
METHOD:PUBLISH
X-PUBLISHED-TTL:P3D
REFRESH-INTERVAL:P3D
CALSCALE:GREGORIAN
BEGIN:VEVENT
DTSTART;VALUE=DATE:20250101
DTEND;VALUE=DATE:20250102
TRANSP:TRANSPARENT
X-MICROSOFT-CDO-ALLDAYEVENT:TRUE
SUMMARY:New Years Day: GCED Office Closed
DESCRIPTION:New Years Day - GCED Office Closed.\n\n\n\nHAPPY NEW YEAR\, GRIMES!
X-ALT-DESC;FMTTYPE=text/html:New Years Day - GCED Office Closed.<br />\n<br />\nHAPPY NEW YEAR\, GRIMES!
LOCATION:
UID:e.2636.1924
SEQUENCE:3
DTSTAMP:20260422T173452Z
URL:https://business.grimesiowa.com/events/details/new-years-day-gced-office-closed-1924
END:VEVENT

END:VCALENDAR
