BEGIN:VCALENDAR
VERSION:2.0
PRODID:-//ChamberMaster//Event Calendar 2.0//EN
METHOD:PUBLISH
X-PUBLISHED-TTL:P3D
REFRESH-INTERVAL:P3D
CALSCALE:GREGORIAN
BEGIN:VEVENT
DTSTART;VALUE=DATE:20210101
DTEND;VALUE=DATE:20210102
TRANSP:TRANSPARENT
X-MICROSOFT-CDO-ALLDAYEVENT:TRUE
SUMMARY:New Years Day! Office Closed
DESCRIPTION:New Years Day! Office is Closed. Office will return to regular hours on Monday\, January 4th. We here at GCED are wishing you all a Happy New Year!
X-ALT-DESC;FMTTYPE=text/html:New Years Day! Office is Closed. Office will return to regular hours on Monday\, January 4th. We here at GCED are wishing you all a Happy New Year!
LOCATION:
UID:e.2636.1583
SEQUENCE:3
DTSTAMP:20260422T220029Z
URL:https://business.grimesiowa.com/events/details/new-years-day-office-closed-1583
END:VEVENT

END:VCALENDAR
