BEGIN:VCALENDAR
VERSION:2.0
PRODID:-//ChamberMaster//Event Calendar 2.0//EN
METHOD:PUBLISH
X-PUBLISHED-TTL:P3D
REFRESH-INTERVAL:P3D
CALSCALE:GREGORIAN
BEGIN:VEVENT
DTSTART:20221020T213000Z
DTEND:20221020T230000Z
X-MICROSOFT-CDO-ALLDAYEVENT:FALSE
SUMMARY:Off the Clock: Cooking by J!
DESCRIPTION:Let's Celebrate another Off the Clock After Hours Events with Cooking by J!\n\n \n\nFeel free to bring a friend\, neighbor or co-worker to this event!
X-ALT-DESC;FMTTYPE=text/html:<p style="margin: 0px\; padding: 0px\; color: rgb(0\, 0\, 0)\; font-family: Arial\, Verdana\, Helvetica\, sans-serif\; font-size: 14px\; text-align: center\;"><span style="font-size: 21px\; color: rgb(51\, 51\, 51)\;">Let&#39\;s Celebrate another Off the Clock After Hours Events with Cooking by J!</span></p>\n\n<p style="margin: 0px\; padding: 0px\; color: rgb(0\, 0\, 0)\; font-family: Arial\, Verdana\, Helvetica\, sans-serif\; font-size: 14px\; text-align: center\;">&nbsp\;</p>\n\n<p style="margin: 0px\; padding: 0px\; color: rgb(0\, 0\, 0)\; font-family: Arial\, Verdana\, Helvetica\, sans-serif\; font-size: 14px\; text-align: center\;"><span style="font-size: 21px\; color: rgb(51\, 51\, 51)\;">Feel free to bring a friend\, neighbor or co-worker to this event!</span></p>\n
LOCATION:250 W 1st St. Ste A Grimes\, IA 50111
UID:e.2636.1725
SEQUENCE:3
DTSTAMP:20260419T162730Z
URL:https://business.grimesiowa.com/events/details/off-the-clock-cooking-by-j-1725
END:VEVENT

END:VCALENDAR
