BEGIN:VCALENDAR
VERSION:2.0
PRODID:-//ChamberMaster//Event Calendar 2.0//EN
METHOD:PUBLISH
X-PUBLISHED-TTL:P3D
REFRESH-INTERVAL:P3D
CALSCALE:GREGORIAN
BEGIN:VEVENT
DTSTART:20220908T213000Z
DTEND:20220908T233000Z
X-MICROSOFT-CDO-ALLDAYEVENT:FALSE
SUMMARY:Off the Clock: Letsch Law Firm
DESCRIPTION:Hip\, Hip\, Hooray!\n\n\n\nIt's Back to School Time which means\, it's time to celebrate!\n\nJoin us at Letsch Law Firm for their Off the Clock After Hours Event\n\n\n\nThursday\, September 8th\n\n4:30pm - 6:30pm!\n\n\n\nFood\, Beverages\, Door Prizes\, OH MY!\n\nDoor Prize drawing is for everyone who shows up before 5:45pm and drawing will be at 5:45pm!\n\n\n\nCOSTUME CONTEST ALERT!\n\nPrize for the most enthusiastic and creative school gameday attire! It can be the high school or college you attended or any school that you support\, real or fictional!\n\n\n\nJudging for the contest will be by vote of attendees at 6pm! Must be in attendance to vote/win!
X-ALT-DESC;FMTTYPE=text/html:<div style="text-align: center\;"><span style="font-size:20px\;"><strong><span style="font-size:22px\;">Hip\, Hip\, Hooray!</span></strong><br />\n<br />\nIt&#39\;s Back to School Time which means\, it&#39\;s time to celebrate!<br />\nJoin us at Letsch Law Firm for their Off the Clock After Hours Event<br />\n<br />\n<strong><span style="font-size:22px\;">Thursday\, September 8th<br />\n4:30pm - 6:30pm!</span></strong><br />\n<br />\nFood\, Beverages\, Door Prizes\, OH MY!<br />\nDoor Prize drawing is for everyone who shows up before 5:45pm and drawing will be at 5:45pm!<br />\n<br />\nCOSTUME CONTEST ALERT!<br />\nPrize for the most enthusiastic and creative school gameday attire! It can be the high school or college you attended or any school that you support\, real or fictional!<br />\n<br />\nJudging for the contest will be by vote of attendees at 6pm! Must be in attendance to vote/win!</span></div>\n
LOCATION:Letsch Law Firm 112 NE Ewing St. Ste D Grimes\, IA 50111
UID:e.2636.1717
SEQUENCE:3
DTSTAMP:20260419T175859Z
URL:https://business.grimesiowa.com/events/details/off-the-clock-letsch-law-firm-1717
END:VEVENT

END:VCALENDAR
