BEGIN:VCALENDAR
VERSION:2.0
PRODID:-//ChamberMaster//Event Calendar 2.0//EN
METHOD:PUBLISH
X-PUBLISHED-TTL:P3D
REFRESH-INTERVAL:P3D
CALSCALE:GREGORIAN
BEGIN:VEVENT
DTSTART:20221208T220000Z
DTEND:20221208T233000Z
X-MICROSOFT-CDO-ALLDAYEVENT:FALSE
SUMMARY:Off the Clock: Merkle Retirement Planning!
DESCRIPTION:Join us at Merkle Retirement Planning for their December Off the Clock: After Hours Event!\n\nPlenty of drinks\, food and great company!\n\n\n\nBe sure to bring a guest and Happy Holidays!
X-ALT-DESC;FMTTYPE=text/html:<div style="text-align: center\;"><span style="font-size:20px\;"><strong>Join us at Merkle Retirement Planning for their December Off the Clock: After Hours Event!<br />\nPlenty of drinks\, food and great company!<br />\n<br />\nBe sure to bring a guest and Happy Holidays!</strong></span></div>\n
LOCATION:1860 SE Princeton Dr. Grimes\, IA 50111
UID:e.2636.1728
SEQUENCE:3
DTSTAMP:20260419T132956Z
URL:https://business.grimesiowa.com/events/details/off-the-clock-merkle-retirement-planning-1728
END:VEVENT

END:VCALENDAR
