BEGIN:VCALENDAR
VERSION:2.0
PRODID:-//ChamberMaster//Event Calendar 2.0//EN
METHOD:PUBLISH
X-PUBLISHED-TTL:P3D
REFRESH-INTERVAL:P3D
CALSCALE:GREGORIAN
BEGIN:VEVENT
DTSTART:20220125T223000Z
DTEND:20220126T000000Z
X-MICROSOFT-CDO-ALLDAYEVENT:FALSE
SUMMARY:Off the Clock: Rainbow of the Heartland
DESCRIPTION:Join us at Rainbow of the Heartland for our first Off the Clock: After Hours Event of 2022! Feel free to bring a co-worker\, friend or neighbor to this event!\n\n \n\nSee you there!
X-ALT-DESC;FMTTYPE=text/html:<div style="text-align: center\;"><span style="font-size:22px\;">Join us at Rainbow of the Heartland for our first Off the Clock: After Hours Event of 2022! Feel free to bring a co-worker\, friend or neighbor to this event!</span><br />\n&nbsp\;</div>\n\n<p style="text-align: center\;"><span style="font-size:22px\;">See you there!</span></p>\n
LOCATION:Rainbow of the Heartland 3300 SE Crossroads Dr. Grimes\, IA 50111
UID:e.2636.1682
SEQUENCE:3
DTSTAMP:20260420T045837Z
URL:https://business.grimesiowa.com/events/details/off-the-clock-rainbow-of-the-heartland-01-25-2022-1682
END:VEVENT

END:VCALENDAR
