BEGIN:VCALENDAR
VERSION:2.0
PRODID:-//ChamberMaster//Event Calendar 2.0//EN
METHOD:PUBLISH
X-PUBLISHED-TTL:P3D
REFRESH-INTERVAL:P3D
CALSCALE:GREGORIAN
BEGIN:VEVENT
DTSTART:20210128T220000Z
DTEND:20210128T233000Z
X-MICROSOFT-CDO-ALLDAYEVENT:FALSE
SUMMARY:Off the Clock: Rainbow of the Heartland
DESCRIPTION:Join us Off the Clock for our first 2021 After Hours Event (Previously B.I.G)\n\nRainbow of the Heartland will be hosting this year's first Off the Clock in person! Food\, drink\, good company! Let's socialize while still social distancing. Please wear your best mask and bring your positivity! Let's make 2021 great!\n\n\n\n**RSVP's required**
X-ALT-DESC;FMTTYPE=text/html:Join us Off the Clock for our first 2021 After Hours Event (Previously B.I.G)<br />\nRainbow of the Heartland will be hosting this year&#39\;s first Off the Clock in person! Food\, drink\, good company! Let&#39\;s socialize while still social distancing. Please wear your best mask and bring your positivity! Let&#39\;s make 2021 great!<br />\n<br />\n**RSVP&#39\;s required**
LOCATION:Rainbow of the Heartland 3300 SE Crossroads Dr\, Grimes\, IA 50111
UID:e.2636.1589
SEQUENCE:3
DTSTAMP:20260422T203801Z
URL:https://business.grimesiowa.com/events/details/off-the-clock-rainbow-of-the-heartland-1589
END:VEVENT

END:VCALENDAR
