BEGIN:VCALENDAR
VERSION:2.0
PRODID:-//ChamberMaster//Event Calendar 2.0//EN
METHOD:PUBLISH
X-PUBLISHED-TTL:P3D
REFRESH-INTERVAL:P3D
CALSCALE:GREGORIAN
BEGIN:VEVENT
DTSTART:20240307T220000Z
DTEND:20240307T233000Z
X-MICROSOFT-CDO-ALLDAYEVENT:FALSE
SUMMARY:Off the Clock with Farrell's!
DESCRIPTION:Join us on Thursday\, March 7th for Farrell's Extreme Bodyshaping's "Off the Clock" After Hours event at 1st Street Tavern in Grimes\, Iowa.\n\n\n\nBring your friends\, colleagues\, or your significant other and join us at 1st Street Tavern for a fantastic event. You'll have a great opportunity to network with other members of the Grimes Chamber!
X-ALT-DESC;FMTTYPE=text/html:<div style="text-align: center\;"><span style="font-size:16px\;"><strong>Join us on Thursday\, March 7th&nbsp\;for Farrell&#39\;s Extreme Bodyshaping&#39\;s &quot\;Off the Clock&quot\; After Hours event at 1st Street Tavern in Grimes\, Iowa.<br />\n<br />\nBring your friends\, colleagues\, or your significant other and join us at 1st Street Tavern for a fantastic event. You&#39\;ll have a great opportunity to network with other members of the Grimes Chamber!</strong></span></div>\n
LOCATION:1101 E 1st St\, STE 112 Grimes Iowa\, 50111
UID:e.2636.1874
SEQUENCE:3
DTSTAMP:20260420T081344Z
URL:https://business.grimesiowa.com/events/details/off-the-clock-with-farrell-s-1874
END:VEVENT

END:VCALENDAR
